Workbook
Name \0: #REF!
Name \1: #N/A
Name \A: #REF!
Name \aa: #REF!
Name \B: #REF!
Name \C: #REF!
Name \c1: #REF!
Name \d: #REF!
Name \g: #REF!
Name \H: #REF!
Name \i: #REF!
Name \l: #REF!
Name \M: #REF!
Name \N: #REF!
Name \P: #REF!
Name \R: #REF!
Name \S: #REF!
Name \U: #REF!
Name \V: #REF!
Name \x: #REF!
Name \z: #REF!
Name _: "tcap"
Name ____________________________________________Xl1: #REF!
Name ___________________________________________Xl1: #REF!
Name _________________________________________Xl1: #REF!
Name ________________________________________Xl1: #REF!
Name _______________________________________Xl1: #REF!
Name ______________________________________b111121: '[1]PACK (B)'!#REF!
Name _____________________________________Xl1: #REF!
Name ____________________________________Xl1: #REF!
Name ___________________________________b111121: '[1]PACK (B)'!#REF!
Name ___________________________________Xl1: #REF!
Name __________________________________Xl1: #REF!
Name _________________________________Xl1: #REF!
Name ________________________________Xl1: #REF!
Name _______________________________AHP1: [2]FDA!_______________________________AHP1
Name _______________________________b111121: '[1]PACK (B)'!#REF!
Name _______________________________Xl1: #REF!
Name ______________________________b111121: '[1]PACK (B)'!#REF!
Name ______________________________TAB1: [3]TABLES!$A$2:$C$16
Name ______________________________Xl1: #REF!
Name _____________________________AHP1: [2]FDA!_____________________________AHP1
Name _____________________________b111121: '[1]PACK (B)'!#REF!
Name _____________________________TAB1: [3]TABLES!$A$2:$C$16
Name _____________________________Xl1: #REF!
Name ____________________________AHP1: [2]FDA!____________________________AHP1
Name ____________________________axx2: [4]Report!#REF!
Name ____________________________b111121: '[1]PACK (B)'!#REF!
Name ____________________________hfi3: [4]Report!#REF!
Name ____________________________Ki1: #REF!
Name ____________________________Ki2: #REF!
Name ____________________________mcl132: '[5]A1-Continuous'!#REF!
Name ____________________________ml3: '[5]A1-Continuous'!#REF!
Name ____________________________ml33: '[5]A1-Continuous'!#REF!
Name ____________________________mlc33: '[5]A1-Continuous'!#REF!
Name ____________________________Re1: #REF!
Name ____________________________Rs1: #REF!
Name ____________________________TAB1: [3]TABLES!$A$2:$C$16
Name ____________________________Xl1: #REF!
Name ___________________________AHP1: [6]UPS!___________________________AHP1

Sheet Schedule No. 1A
A1: Item | B1: Description | C1: Country of origin2 | D1: Unit | E1: Quantity | F1: Unit Price1 | G1: Total Price1
F3: Foreign Currency [ ] CIP | G3: Foreign Currency [ ] CIP
A4: 1 | B4: 2 | C4: 3* | D4: 4 | E4: 5 | F4: 6 | G4: 7= 5 x 6
A5: Schedule No. 1A Plant and Mandatory Spare Parts Supplied from Abroad
A6: 1 | B6: Supply of 400 kV double circuit towers, complete with all stubs, nuts, bolts, locking nuts, washers, swivels/shackles, step bolts, tower notice and identification plates, ACDs, protective coating(Galvanizing), etc as per specification.
A8: 1.1 | B8: Tower type "4DL"
A9: 1.1.1 | B9: Tower type 4DL Standard | D9: each | E9: 1 | O9: 4DL
A10: 1.1.2 | B10: Tower type 4DL+1.5 m | D10: each | E10: 0 | I10: =E14+4+E34+E41+E48 -> 28 | O10: 4DL
A11: 1.1.3 | B11: Tower type 4DL+3 m | D11: each | E11: 1 | O11: 4DL
A12: 1.1.4 | B12: Tower type 4DL+4.5 m | D12: each | E12: 2 | O12: 4DL
A13: 1.1.5 | B13: Tower type 4DL+6 m | D13: each | E13: 6 | L13: =SUM(E9:E14) -> 23 | O13: 4DL
A14: 1.1.6 | B14: Tower type 4DL+9 m | D14: each | E14: 13 | O14: 4DL
A15: 1.2 | B15: Tower type "4D1"
A16: 1.2.1 | B16: Tower type 4D1 Standard | D16: each | E16: 0 | O16: 4D1
A17: 1.2.2 | B17: Tower type 4D1+1.5 m | D17: each | E17: 0 | O17: 4D1
A18: 1.2.3 | B18: Tower type 4D1+3 m | D18: each | E18: 0 | O18: 4D1
A19: 1.2.4 | B19: Tower type 4D1+4.5 m | D19: each | E19: 0 | I19: 4DT6 | J19: =SUM(E43:E48) -> 7 | O19: 4D1
A20: 1.2.5 | B20: Tower type 4D1+6 m | D20: each | E20: 0 | I20: 4DL | J20: =SUM(E9:E14) -> 23 | O20: 4D1
A21: 1.2.6 | B21: Tower type 4D1+9 m | D21: each | E21: 0 | I21: 4D1 | J21: =SUM(E16:E27) -> 4 | O21: 4D1
A22: 1.2.7 | B22: Tower type 4D1+12 m | D22: each | E22: 1 | I22: 4D25 | J22: =SUM(E29:E34) -> 9 | O22: 4D1
A23: 1.2.8 | B23: Tower type 4D1+15 m | D23: each | E23: 1 | I23: 4D45 | J23: =SUM(E36:E41) -> 2 | O23: 4D1
A24: 1.2.9 | B24: Tower type 4D1+20m | D24: each | E24: 1 | J24: =SUM(J19:J23) -> 45 | O24: 4D1
A25: 1.2.10 | B25: Tower type 4D1+25 m | D25: each | E25: 1 | O25: 4D1
A26: 1.2.11 | B26: Tower type 4D1+30 m | D26: each | E26: 0 | I26: Total tension tower | J26: =SUM(J22:J23)+J19 -> 18 | K26: 30 | O26: 4D1
A27: 1.2.12 | B27: Tower type 4D1+40 m | D27: each | E27: 0 | L27: =SUM(E16:E27) -> 4 | O27: 4D1
A28: 1.3 | B28: Tower type "4D25"
A29: 1.3.1 | B29: Tower type 4D25 Standard | D29: each | E29: 0 | O29: 4D25
A30: 1.3.2 | B30: Tower type 4D25+1.5 m | D30: each | E30: 0 | O30: 4D25
A31: 1.3.3 | B31: Tower type 4D25+3 m | D31: each | E31: 0 | O31: 4D25
A32: 1.3.4 | B32: Tower type 4D25+4.5 m | D32: each | E32: 2 | O32: 4D25
A33: 1.3.5 | B33: Tower type 4D25+6 m | D33: each | E33: 1 | O33: 4D25
A34: 1.3.6 | B34: Tower type 4D25+9 m | D34: each | E34: 6 | O34: 4D25
A35: 1.4 | B35: Tower type "4D45"
A36: 1.4.1 | B36: Tower type 4D45 Standard | D36: each | E36: 0 | O36: 4D45
A37: 1.4.2 | B37: Tower type 4D45+1.5 m | D37: each | E37: 0 | O37: 4D45
A38: 1.4.3 | B38: Tower type 4D45+3 m | D38: each | E38: 0 | O38: 4D45
A39: 1.4.4 | B39: Tower type 4D45+4.5 m | D39: each | E39: 0 | O39: 4D45
A40: 1.4.5 | B40: Tower type 4D45+6 m | D40: each | E40: 1 | O40: 4D45
A41: 1.4.6 | B41: Tower type 4D45+9 m | D41: each | E41: 1 | O41: 4D45
A42: 1.5 | B42: Tower type "4DT6"
...

Sheet Schedule No. 2A
A1: Item | B1: Description | C1: Unit | D1: Quantity | E1: Unit Price1 | G1: Total Price1
E3: Local Currency EXW [BDT] | F3: Foreign Currency EXW [ ] | G3: Local Currency EXW [BDT] | H3: Foreign Currency EXW [ ]
A4: 1 | B4: 2 | C4: 3 | D4: 4 | E4: 5 | F4: 6 | G4: 7=4*5 | H4: 8=4*6
A5: Schedule No. 2A Plant and Mandatory Spare Parts Supplied from Within the Employer's Country
A6: 1 | B6: Supply of 400 kV double circuit towers, complete with all stubs, nuts, bolts, locking nuts, washers, swivels/shackles, step bolts, tower notice and identification plates, ACDs, protective coating(Galvanizing), etc as per specification.
A8: 1.1 | B8: Tower type "4DL"
A9: 1.1.1 | B9: Tower type 4DL Standard | C9: each | D9: 1
A10: 1.1.2 | B10: Tower type 4DL+1.5 m | C10: each | D10: 0
A11: 1.1.3 | B11: Tower type 4DL+3 m | C11: each | D11: 1
A12: 1.1.4 | B12: Tower type 4DL+4.5 m | C12: each | D12: 2
A13: 1.1.5 | B13: Tower type 4DL+6 m | C13: each | D13: 6 | L13: =SUM(D9:D14) -> 23
A14: 1.1.6 | B14: Tower type 4DL+9 m | C14: each | D14: 13
A15: 1.2 | B15: Tower type "4D1"
A16: 1.2.1 | B16: Tower type 4D1 Standard | C16: each | D16: 0
A17: 1.2.2 | B17: Tower type 4D1+1.5 m | C17: each | D17: 0
A18: 1.2.3 | B18: Tower type 4D1+3 m | C18: each | D18: 0
A19: 1.2.4 | B19: Tower type 4D1+4.5 m | C19: each | D19: 0 | I19: 4DT6 | J19: =SUM(D43:D48) -> 7
A20: 1.2.5 | B20: Tower type 4D1+6 m | C20: each | D20: 0 | I20: 4DL | J20: =SUM(D9:D14) -> 23
A21: 1.2.6 | B21: Tower type 4D1+9 m | C21: each | D21: 0 | I21: 4D1 | J21: =SUM(D16:D27) -> 4
A22: 1.2.7 | B22: Tower type 4D1+12 m | C22: each | D22: 1 | I22: 4D25 | J22: =SUM(D29:D34) -> 9
A23: 1.2.8 | B23: Tower type 4D1+15 m | C23: each | D23: 1 | I23: 4D45 | J23: =SUM(D36:D41) -> 2
A24: 1.2.9 | B24: Tower type 4D1+20m | C24: each | D24: 1 | J24: =SUM(J19:J23) -> 45 | K24: =273 -> 273
A25: 1.2.10 | B25: Tower type 4D1+25 m | C25: each | D25: 1
A26: 1.2.11 | B26: Tower type 4D1+30 m | C26: each | D26: 0 | I26: Total tension tower | J26: =SUM(J22:J23)+J19 -> 18 | K26: 30
A27: 1.2.12 | B27: Tower type 4D1+40 m | C27: each | D27: 0 | L27: =SUM(D16:D27) -> 4
A28: 1.3 | B28: Tower type "4D25"
A29: 1.3.1 | B29: Tower type 4D25 Standard | C29: each | D29: 0
A30: 1.3.2 | B30: Tower type 4D25+1.5 m | C30: each | D30: 0
A31: 1.3.3 | B31: Tower type 4D25+3 m | C31: each | D31: 0
A32: 1.3.4 | B32: Tower type 4D25+4.5 m | C32: each | D32: 2
A33: 1.3.5 | B33: Tower type 4D25+6 m | C33: each | D33: 1
A34: 1.3.6 | B34: Tower type 4D25+9 m | C34: each | D34: 6
A35: 1.4 | B35: Tower type "4D45"
A36: 1.4.1 | B36: Tower type 4D45 Standard | C36: each | D36: 0
A37: 1.4.2 | B37: Tower type 4D45+1.5 m | C37: each | D37: 0
A38: 1.4.3 | B38: Tower type 4D45+3 m | C38: each | D38: 0
A39: 1.4.4 | B39: Tower type 4D45+4.5 m | C39: each | D39: 0
A40: 1.4.5 | B40: Tower type 4D45+6 m | C40: each | D40: 1
A41: 1.4.6 | B41: Tower type 4D45+9 m | C41: each | D41: 1
A42: 1.5 | B42: Tower type "4DT6"
...

Sheet Schedule No. 3A
A3: Item | B3: Description | C3: Unit | D3: Quantity | E3: Unit Price1 | G3: Total Price1
E5: Local Currency [BDT] | F5: Foreign Currency [ ] | G5: Local Currency [BDT] | H5: Foreign Currency [ ]
A6: 1 | B6: 2 | C6: 3 | D6: 4 | E6: 5 | F6: 6 | G6: 7 = 4 x 5 | H6: 8 = 4 x 6
A7: Schedule No. 3A Design Services
A8: 1 | B8: Line Design
A9: 1.1 | B9: Detailed line design including plan and profiles; conductor, earthwire and OPGW sag tension calculations; tower spotting, establishment of line schedule; Design of insulator strings, OPGW and earthwire attachments | C9: Lump sum | D9: 1
A11: 2 | B11: Tower Test
A12: 2.1 | B12: Proto assembly of all type towers with all extensions to prove compliance with specification. Payment for successful test only.
A13: (a) | B13: Tower type 4DL | C13: each | D13: 1
A14: (b) | B14: Tower type 4D1 | C14: each | D14: 1
A15: (c) | B15: Tower type 4D25 | C15: each | D15: 1
A16: (d) | B16: Tower type 4D45 | C16: each | D16: 1
A17: (e) | B17: Tower type 4DT6 | C17: each | D17: 1
A18: 3 | B18: Foundation Design
A19: 3.1 | B19: Foundation design for all soil types | C19: Lump sum | D19: 1
A20: Total Columns 7 and 8 to be carried forward to Schedule No. 5 -Grand Summary
A23: 1. Specify currency in accordance with specifications in Bid Data Sheet under ITB 19.1 in Single-stage Bid. Create and use as many columns for Unit Price and Total Price as there are currencies.

Sheet Schedule No. 4A
A1: Item | B1: Description | C1: Unit | D1: Quantity | E1: Unit Price1 | G1: Total Price1
E3: Local Currency [BDT] | F3: Foreign Currency [ ] | G3: Local Currency [BDT] | H3: Foreign Currency [ ]
A4: 1 | B4: 2 | C4: 3 | D4: 4 | E4: 5 | F4: 6 | G4: 7 = 4 x 5 | H4: 8= 4x6
A5: Schedule No. 4A Installation and Other Services
A6: 1 | B6: Survey, soil investigation works & Route Clearance
A7: 1.1 | B7: Survey Work & Route Clearance
A8: 1.1.1 | B8: Check survey in accordance with the requirements of the technical specification, incl. Full ground survey with change of route, if any, tower plotting and preparation and submission of route maps,submission of tower footing area on mouza maps for each tower location, profile drawings, SIMM documents, etc. | C8: Km | D8: 13.5
A10: 1.2 | B10: Geotechnical Investigations incl. taking samples, logging and lab testing
A11: 1.2.1 | B11: Boreholes for geotechnical investigation, incl. laboratory test, borehole logs, sampling and interpretive report as per geotechnical specification
A12: (a) | B12: Level 2 | C12: borehole | D12: 2
A13: (b) | B13: Level 4 | C13: borehole | D13: 2
A14: 1.2.2 | B14: Soil resistivity tests (one per tower) | C14: unit | D14: 45
A15: 2 | B15: Foundations for towers including all setting out, Concrete, Reinforcement, Excavation, Pumping, Stub-Setting, Geotechnical Investigation (Level 2), Shuttering, Leveling, Timbering, supply & Installation of foundation steelwork, Earthing Materials,Backfilling, approved Protective Coating & site clearing etc.
A16: 2.1 | B16: Tower type "4DL"
A17: 2.1.1 | B17: Pile Foundation for Soil Category-2 with 2m Raised Chimney | C17: per tower | D17: 8
A18: 2.1.2 | B18: Pile Foundation for Soil Category-3 with 2m Raised Chimney | C18: per tower | D18: 7
A19: 2.1.3 | B19: Pile Foundation for Soil Category-4 with 2m Raised Chimney | C19: per tower | D19: 6 | I19: =SUM(D17:D19) -> 21
A20: 2.2 | B20: Tower type "4D1 (0m to 15m body extension)"
A21: 2.2.1 | B21: Pile Foundation for any Soil Category with 2m Raised Chimney | C21: per tower | D21: 1
A22: 2.3 | B22: Tower type "4D1( 20m body extension)"
A23: 2.3.1 | B23: Pile Foundation for any Soil Category with 2m Raised Chimney | C23: per tower | D23: 1
A24: 2.3 | B24: Tower type "4D1(25m body extension)"
A25: 2.3.1 | B25: Pile Foundation for any Soil Category with 2m Raised Chimney | C25: per tower | D25: 1
A26: 2.4 | B26: Tower type "4D25" | I26: =SUM(D21:D25) -> 3
A27: 2.4.1 | B27: Pile Foundation for Soil Category-2 with 2m Raised Chimney | C27: per tower | D27: 3
A28: 2.4.2 | B28: Pile Foundation for Soil Category-3 with 2m Raised Chimney | C28: per tower | D28: 3
A29: 2.4.3 | B29: Pile Foundation for Soil Category-4 with 2m Raised Chimney | C29: per tower | D29: 2
A30: 2.5 | B30: Tower type "4D45" | I30: =SUM(D27:D29) -> 8
A31: 2.5.1 | B31: Pile Foundation for any Soil Category with 2m Raised Chimney | C31: per tower | D31: 2
A32: 2.6 | B32: Tower type "4DT6" | I32: =SUM(D31:D31) -> 2
A33: 2.6.1 | B33: Pile Foundation for Soil Category-2 with 2m Raised Chimney | C33: per tower | D33: 2
A34: 2.6.2 | B34: Pile Foundation for Soil Category-3 with 2m Raised Chimney | C34: per tower | D34: 3
A35: 2.6.3 | B35: Pile Foundation for Soil Category-4 with 2m Raised Chimney | C35: per tower | D35: 2 | I35: =SUM(D33:D35) -> 7
A36: 2.7 | B36: River Crossing Foundation for any soil category with 2m Raised Chimney
A37: 2.7.1 | B37: Pile Foundation for Tower Type 4DL (Any Extension) | C37: per tower | D37: 2
A38: 2.7.2 | B38: Pile Foundation for Tower Type 4D1 (Any Extension) | C38: per tower | D38: 1
A39: 2.7.3 | B39: Pile Foundation for Tower Type 4D25 (Any Extension) | C39: per tower | D39: 1 | I39: =SUM(D37:D39) -> 4
A40: 3 | B40: Erection of 400kV double circuit towers complete with all stubs, nuts, bolts, locking nuts, washers, phase conductor and earthwire , step bolts, tower notice and identification plates, ACDs, ptotective coating (Galvanizing), earthing etc. | I40: =SUM(I19:I39) -> 45
A41: 3.1 | B41: Tower type "4DL"
A42: 3.1.1 | B42: Tower type 4DL Standard | C42: ='Schedule No. 1A'!D9 -> each | D42: ='Schedule No. 1A'!E9 -> 1
...
