Workbook

Sheet Schedule No. 1A
A1: Design, Supply, Installation, Testing & Commissioning of 230 kV and 132 kV Transmission Lines for Southern Area of Chattogram Division & Bangabandhu Hi-Tech City at Kaliakoir on Turnkey Basis (Contract No. PGCB/AIIB/000308-BGD/TL/Package-2)
A2: A. Anwara-Cox's Bazar (North) 230 kV double circuit transmission line (Initially charged at 132 kV): 109 km with 0.49 km river crossing portion (using twin ACSR mallard Conductor)
A3: Item | B3: Description | C3: Country of origin2 | D3: Unit | E3: Quantity | F3: Unit Price1 | H3: Total Price1 | I3: Taxes and Duties
F5: Foreign Currency [xxx] | G5: CIP | H5: Foreign Currency [xxx] CIP | I5: Local Currency [BDT]
A6: 1 | B6: 2 | C6: 3* | D6: 4 | E6: 5 | F6: 6 | G6: 7 | H6: 8= 5 x 7 | I6: 9
A7: Schedule No. 1A Plant and Mandatory Spare Parts Supplied from Abroad
A8: 1.Supply of 230 kV and 400kV double circuit towers, complete with all stubs, nuts, bolts, locking nuts, washers, phase conductors and earthwire, swivels/shackles, step bolts, tower notice and identification plates, ACDs, protective coating, earthing, etc.
A9: 1.1 | B9: Tower type "4D1-Q"
A10: 1.1.1 | B10: Tower type 4D1-Q+30 m | D10: each | E10: 3 | J10: =E10+E11 -> 6 | K10: 2
A11: 1.1.2 | B11: Tower type 4D1-Q+40 m | D11: each | E11: 3
A12: 1.2 | B12: Tower type 2DL
A13: 1.2.1 | B13: Tower type 2DL Standard | D13: each | E13: 10
A14: 1.2.2 | B14: Tower type 2DL+1.5 m | D14: each | E14: 10
A15: 1.2.3 | B15: Tower type 2DL+3 m | D15: each | E15: 18
A16: 1.2.4 | B16: Tower type 2DL+4.5 m | D16: each | E16: 28
A17: 1.2.5 | B17: Tower type 2DL+6 m | D17: each | E17: 33
A18: 1.2.6 | B18: Tower type 2DL+9 m | D18: each | E18: 43
A19: 1.2.7 | B19: Tower type 2DL+12 m | D19: each | E19: 36
A20: 1.3 | B20: Tower type "2D1" | J20: =SUM(E13:E19) -> 178 | K20: =SUM(F13:F19) -> 0
A21: 1.3.1 | B21: Tower type 2D1 Standard | D21: each | E21: 2
A22: 1.3.2 | B22: Tower type 2D1 +1.5 m | D22: each | E22: 2
A23: 1.3.3 | B23: Tower type 2D1 +3 m | D23: each | E23: 2 | L23: =J10+J20+J32+J40+J49+J100+J105+J59+J66+J77+J83+J90+J96+J97 -> 340 | M23: =K10+K20+K32+K40+K49+K100+K105 -> 2
A24: 1.3.4 | B24: Tower type 2D1 +4.5 m | D24: each | E24: 2
A25: 1.3.5 | B25: Tower type 2D1 +6 m | D25: each | E25: 2
A26: 1.3.6 | B26: Tower type 2D1 +9 m | D26: each | E26: 3
A27: 1.3.7 | B27: Tower type 2D1 +12 m | D27: each | E27: 4
A28: 1.3.8 | B28: Tower type 2D1 +15 m | D28: each | E28: 4
A29: 1.3.9 | B29: Tower type 2D1 +18 m | D29: each | E29: 3
A30: 1.3.10 | B30: Tower type 2D1 +21 m | D30: each | E30: 2
A31: 1.3.11 | B31: Tower type 2D1 +25 m | D31: each | E31: 2
A32: 1.4 | B32: Tower type "2D25" | J32: =SUM(E21:E31) -> 28 | K32: =SUM(F21:F30) -> 0
A33: 1.4.1 | B33: Tower type 2D25 Standard | D33: each | E33: 5
A34: 1.4.2 | B34: Tower type 2D25 +1.5 m | D34: each | E34: 2
A35: 1.4.3 | B35: Tower type 2D25+3 m | D35: each | E35: 4
A36: 1.4.4 | B36: Tower type 2D25 +4.5 m | D36: each | E36: 2
A37: 1.4.5 | B37: Tower type 2D25 +6 m | D37: each | E37: 5
A38: 1.4.6 | B38: Tower type 2D25 +9 m | D38: each | E38: 11
A39: 1.4.7 | B39: Tower type 2D25 +12 m | D39: each | E39: 5
A40: 1.4.8 | B40: Tower type 2D25 +15 m | D40: each | E40: 4 | J40: =SUM(E33:E40) -> 38 | K40: =SUM(F33:F40) -> 0
A41: 1.5 | B41: Tower type "2DT6"
...

Sheet Schedule No. 1B
A1: Design, Supply, Installation, Testing & Commissioning of 230 kV and 132 kV Transmission Lines for Southern Area of Chattogram Division & Bangabandhu Hi-Tech City at Kaliakoir on Turnkey Basis (Contract No.PGCB/AIIB/000308-BGD/TL/Package-2)
A2: B. Bangabandhu Hi-Tech City-Kaliakoir 230 kV double circuit transmission line: 4.88 km (using Twin ACSR Mallard conductor)
A3: Item | B3: Description | C3: Country of origin2 | D3: Unit | E3: Quantity | F3: Unit Price1 | H3: Total Price1 | I3: Taxes and Duties
F5: Foreign Currency [xxx] | G5: CIP | H5: Foreign Currency [xxx] CIP | I5: Local Currency [BDT]
A6: 1 | B6: 2 | C6: 3* | D6: 4 | E6: 5 | F6: 6 | G6: 7 | H6: 8= 5 x 7 | I6: 9
A7: Schedule No. 1B Plant and Mandatory Spare Parts Supplied from Abroad
A8: 1.Supply of 230 kV double circuit towers, complete with all stubs, nuts, bolts, locking nuts, washers, phase conductors and earthwire, swivels/shackles, step bolts, tower notice and identification plates, ACDs, protective coating, earthing, etc.
A9: 1.1 | B9: Tower type "2DL"
A10: 1.1.1 | B10: Tower type 2DL Standard | D10: each | E10: 1
A11: 1.1.2 | B11: Tower type 2DL+1.5 m | D11: each | E11: NIL
A12: 1.1.3 | B12: Tower type 2DL+3 m | D12: each | E12: NIL
A13: 1.1.4 | B13: Tower type 2DL+4.5 m | D13: each | E13: NIL
A14: 1.1.5 | B14: Tower type 2DL+6 m | D14: each | E14: 1
A15: 1.1.6 | B15: Tower type 2DL+9 m | D15: each | E15: 1
A16: 1.1.7 | B16: Tower type 2DL+12 m | D16: each | E16: 1
A17: 1.2 | B17: Tower type "2D1" | J17: =SUM(E10:E16) -> 4 | K17: =SUM(F10:F16) -> 0
A18: 1.2.1 | B18: Tower type 2D1 Standard | D18: each | E18: 1
A19: 1.2.2 | B19: Tower type 2D1 +1.5 m | D19: each | E19: NIL
A20: 1.2.3 | B20: Tower type 2D1 +3 m | D20: each | E20: NIL
A21: 1.2.4 | B21: Tower type 2D1 +4.5 m | D21: each | E21: NIL
A22: 1.2.5 | B22: Tower type 2D1 +6 m | D22: each | E22: NIL
A23: 1.2.6 | B23: Tower type 2D1 +9 m | D23: each | E23: 1
A24: 1.2.7 | B24: Tower type 2D1 +12 m | D24: each | E24: NIL
A25: 1.2.8 | B25: Tower type 2D1 +15 m | D25: each | E25: NIL
A26: 1.2.9 | B26: Tower type 2D1 +18 m | D26: each | E26: NIL
A27: 1.2.10 | B27: Tower type 2D1 +21 m | D27: each | E27: 1
A28: 1.3 | B28: Tower type "2D25" | J28: =SUM(E18:E27) -> 3 | K28: =SUM(F18:F27) -> 0
A29: 1.3.1 | B29: Tower type 2D25 Standard | D29: each | E29: 1
A30: 1.3.2 | B30: Tower type 2D25 +1.5 m | D30: each | E30: NIL
A31: 1.3.3 | B31: Tower type 2D25+3 m | D31: each | E31: 1 | K31: =SUM(J17+J36+J28+J44+J53+J64+J70+J77+J83) -> 24
A32: 1.3.4 | B32: Tower type 2D25 +4.5 m | D32: each | E32: NIL
A33: 1.3.5 | B33: Tower type 2D25 +6 m | D33: each | E33: NIL
A34: 1.3.6 | B34: Tower type 2D25 +9 m | D34: each | E34: 1
A35: 1.3.7 | B35: Tower type 2D25 +12 m | D35: each | E35: NIL
A36: 1.3.8 | B36: Tower type 2D25 +15 m | D36: each | E36: 1 | J36: =SUM(E29:E36) -> 4 | K36: =SUM(F29:F36) -> 0
A37: 1.4 | B37: Tower type "2DT6"
A38: 1.4.1 | B38: Tower type 2DT6 Standard | D38: each | E38: 1
A39: 1.4.2 | B39: Tower type 2DT6+1.5 m | D39: each | E39: NIL
A40: 1.4.3 | B40: Tower type 2DT6+3 m | D40: each | E40: NIL
A41: 1.4.4 | B41: Tower type 2DT6+4.5 m | D41: each | E41: NIL
...

Sheet Schedule No. 1C
A1: Design, Supply, Installation, Testing & Commissioning of 230 kV and 132 kV Transmission Lines for Southern Area of Chattogram Division & Bangabandhu Hi-Tech City at Kaliakoir on Turnkey Basis (Contract No. PGCB/AIIB/000308-BGD/TL/Package-2)
A2: C. Cox's Bazar (North)-Teknaf 132 kV double circuit transmission line: 65 km (using Single ACSR Grosbeak Conductor)
A3: Item | B3: Description | C3: Country of origin2 | D3: Unit | E3: Quantity | F3: Unit Price1 | H3: Total Price1 | I3: Taxes and Duties
F5: Foreign Currency [xxx] | G5: CIP | H5: Foreign Currency [xxx] CIP | I5: Local Currency [BDT]
A6: 1 | B6: 2 | C6: 3* | D6: 4 | E6: 5 | F6: 6 | G6: 7 | H6: 8= 5 x 7 | I6: 9
A7: Schedule No. 1C Plant and Mandatory Spare Parts Supplied from Abroad
A8: 1.Supply of 132 kV double circuit towers, complete with all stubs, nuts, bolts, locking nuts, washers, phase conductors and earthwire, swivels/shackles, step bolts, tower notice and identification plates, ACDs, protective coating, earthing, etc.
A9: 1.1 | B9: Tower type "1DL"
A10: 1.1.1 | B10: Tower type 1DL Standard | D10: each | E10: 20
A11: 1.1.2 | B11: Tower type 1DL+1.5 m | D11: each | E11: 25
A12: 1.1.3 | B12: Tower type 1DL+3 m | D12: each | E12: 25
A13: 1.1.4 | B13: Tower type 1DL+4.5 m | D13: each | E13: 40
A14: 1.1.5 | B14: Tower type 1DL+6 m | D14: each | E14: 52
A15: 1.1.6 | B15: Tower type 1DL+9 m | D15: each | E15: 52
A16: 1.2 | B16: Tower type "1D1" | J16: =SUM(E10:E15) -> 214 | K16: =SUM(F10:F15) -> 0
A17: 1.2.1 | B17: Tower type 1D1 Standard | D17: each | E17: NIL
A18: 1.2.2 | B18: Tower type 1D1 +1.5 m | D18: each | E18: NIL
A19: 1.2.3 | B19: Tower type 1D1 +3 m | D19: each | E19: NIL
A20: 1.2.4 | B20: Tower type 1D1 +4.5 m | D20: each | E20: NIL | N20: =J16+J24+J29+J36+J42+J51+J57+J64+J71 -> 350
A21: 1.2.5 | B21: Tower type 1D1 +6 m | D21: each | E21: 5
A22: 1.2.6 | B22: Tower type 1D1 +9 m | D22: each | E22: 5
A23: 1.2.7 | B23: Tower type 1D1 +12 m | D23: each | E23: 10
A24: 1.3 | B24: Tower type "1D25" | J24: =SUM(E17:E23) -> 20 | K24: =SUM(F17:F23) -> 0
A25: 1.3.1 | B25: Tower type 1D25 Standard | D25: each | E25: 5
A26: 1.3.2 | B26: Tower type 1D25 +1.5 m | D26: each | E26: 7
A27: 1.3.3 | B27: Tower type 1D25+3 m | D27: each | E27: 10
A28: 1.3.4 | B28: Tower type 1D25 +9 m | D28: each | E28: 18
A29: 1.4 | B29: Tower type "1DT6" | J29: =SUM(E25:E28) -> 40
A30: 1.4.1 | B30: Tower type 1DT6 Standard | D30: each | E30: 5
A31: 1.4.2 | B31: Tower type 1DT6+1.5 m | D31: each | E31: 5
A32: 1.4.3 | B32: Tower type 1DT6+3 m | D32: each | E32: 5
A33: 1.4.4 | B33: Tower type 1DT6+4.5 m | D33: each | E33: 9
A34: 1.4.5 | B34: Tower type 1DT6+6 m | D34: each | E34: 12
A35: 1.4.6 | B35: Tower type 1DT6+9 m | D35: each | E35: 12
A36: 1.5 | B36: Tower Type 1QL | J36: =SUM(E30:E35) -> 48
A37: 1.5.1 | B37: Tower Type 1QL Standard | D37: each | E37: NIL
A38: 1.5.2 | B38: Tower Type 1QL+1.5 m | D38: each | E38: NIL
A39: 1.5.3 | B39: Tower Type 1QL+3.0 m | D39: each | E39: 3
A40: 1.5.4 | B40: Tower Type 1QL+4.5 m | D40: each | E40: NIL
A41: 1.5.5 | B41: Tower Type 1QL+6.0 m | D41: each | E41: 3
...

Sheet Schedule No. 1D
A1: Design, Supply, Installation, Testing & Commissioning of 230 kV and 132 kV Transmission Lines for Southern Area of Chattogram Division & Bangabandhu Hi-Tech City at Kaliakoir on Turnkey Basis (Contract No. PGCB/AIIB/000308-BGD/TL/Package-2)
A2: D. 132 kV Line-In-Line-Out (LILO) at Cox’s Bazar (North) substation from Dohazari - Cox’s Bazar 132 kV double circuit transmission line: 1.55 km (using Single ACSR Grosbeak equivalent ACCC conductor)
A3: Item | B3: Description | C3: Country of origin2 | D3: Unit | E3: Quantity | F3: Unit Price1 | H3: Total Price1 | I3: Taxes and Duties
F5: Foreign Currency [xxx] | G5: CIP | H5: Foreign Currency [xxx] CIP | I5: Local Currency [BDT]
A6: 1 | B6: 2 | C6: 3* | D6: 4 | E6: 5 | F6: 6 | G6: 7 | H6: 8= 5 x 7 | I6: 9
A7: Schedule No. 1D Plant and Mandatory Spare Parts Supplied from Abroad
A8: 1.Supply of 132 kV double circuit towers, complete with all stubs, nuts, bolts, locking nuts, washers, phase conductors and earthwire, swivels/shackles, step bolts, tower notice and identification plates, ACDs, protective coating, earthing, etc.
A9: 1 | B9: Supply of 132 kV Double circuit towers, complete with all stubs, nuts, bolts, locking nuts, washers, phase conductors and earthwire, swivels/shackles, step bolts, tower notice and identification plates, ACDs, protective coating, earthing, etc.
A10: 1.1 | B10: Tower Type 1DT6
A11: 1.1.1 | B11: Tower Type 1DT6+6.0 m | D11: each | E11: 1
A12: 1.1.2 | B12: Tower Type 1DT6+9.0 m | D12: each | E12: 1
A13: 2 | B13: Supply of 132 kV Four circuit towers, complete with all stubs, nuts, bolts, locking nuts, washers, phase conductors and earthwire, swivels/shackles, step bolts, tower notice and identification plates, ACDs, protective coating, earthing, etc.
A14: 2.1 | B14: Tower Type 1QL
A15: 2.1.1 | B15: Tower Type 1QL+9.0 m | D15: each | E15: 1
A16: 2.2 | B16: Tower Type 1Q15
A17: 2.2.1 | B17: Tower type 1Q15 +15.0 m | D17: each | E17: 1
A18: 2.3 | B18: Tower Type 1Q30
A19: 2.3.1 | B19: Tower type 1Q30 +9.0 m | D19: each | E19: 2
A20: 2.4 | B20: Tower Type 1QT6
A21: 2.4.1 | B21: Tower Type 1QT6+9.0 m | D21: each | E21: 3
A22: 3 | B22: Auxiliary Crossarm for tower
A23: 3.1 | B23: Auxiliary Crossarm for Tower Type 1QT6 | D23: per set of three | E23: 4
A24: 4 | B24: Phase conductor, earthwire and OPGW cable, complete with repair sleeves and joints
A25: 4.1 | B25: "ACSR Grosbeak equivalent ACCC" (four circuit line, all circuits erected, one conductors per phase) [3] | D25: Route km3 | E25: 1.55
A26: 4.2 | B26: Two optical fibre ground wire, 24 fibres 7×3.25 steel earthwire equivalent OPGW, including joint box | D26: Route km3 | E26: 1.55
A27: 5 | B27: Insulator strings, with associated suspension and tension clamps for single "ACSR Grosbeak equivalent ACCC " Conductor
A28: 5.1 | B28: a) 70kN suspension Insulators set for single "ACSR Grosbeak equivalent ACCC" Conductor (Suspension) - disc only | D28: Set | E28: =(E15)*12 -> 12 | J28: =SUM(E11:E21) -> 9
B29: b) 70kN suspension Insulators set for single "ACSR Grosbeak equivalent ACCC" Conductor (Suspension) - hardware fittings only | D29: Set | E29: =E28 -> 12
A30: 5.2 | B30: a) 120kN tension Insulators Set for single "ACSR Grosbeak equivalent ACCC'' Conductor - disc only | D30: Set | E30: =E11*12+(E17+E19+E21)*24 -> 156
B31: b) 120kN tension Insulators Set for single "ACSR Grosbeak equivalent ACCC'' Conductor - hardware fittings only | D31: Set | E31: =E30 -> 156
A32: 5.3 | B32: a) 70kN jumper suspension Insulators Set forsingle "ACSR Grosbeak equivalent ACCC" Conductor - disc only | D32: Set | E32: =E11*6+E19*12+E21*12 -> 66
B33: b) 70kN jumper suspension Insulators Set forsingle "ACSR Grosbeak equivalent ACCC" Conductor - hardware fittings only | D33: Set | E33: =E32 -> 66
A34: 5.4 | B34: a) 70kN single upright low duty Insulators Set for single "ACSR Grosbeak equivalent ACCC" Conductor - disc only | D34: Set | E34: 12
B35: b) 70kN single upright low duty Insulators Set for single "ACSR Grosbeak equivalent ACCC" Conductor - hardware fittings only | D35: Set | E35: 12
A36: 5.5 | B36: a) 70kN single inverted low duty Insulators Set for single "ACSR Grosbeak equivalent ACCC" Conductor - disc only | D36: Set | E36: 12
B37: b) 70kN single inverted low duty Insulators Fittings Set for single "ACSR Grosbeak equivalent ACCC" Conductor - hardware fittings only | D37: Set | E37: 12
A38: 6 | B38: OPGW sets, complete with all accessories, incl. armour rods and earth bounds
A39: 6.1 | B39: Suspension set (including all fittings and accessories for surplus and to guide the OPGW to the joint box) | D39: set | E39: =E15*2 -> 2
A40: 6.2 | B40: Tension set (including all fittings and accessories for surplus and to guide the OPGW to the joint box) | D40: set | E40: =(E11+E15+E19+E21)*4 -> 28
A41: 7 | B41: Dampers
...

Sheet Schedule No. 2A
A1: Design, Supply, Installation, Testing & Commissioning of 230 kV and 132 kV Transmission Lines for Southern Area of Chattogram Division & Bangabandhu Hi-Tech City at Kaliakoir on Turnkey Basis (Contract No. PGCB/AIIB/000308-BGD/TL/Package-2)
A2: A. Anwara-Cox's Bazar (North) 230 kV double circuit transmission line (Initially charged at 132 kV): 109 km with 0.49 km river crossing portion (using twin ACSR mallard Conductor)
A3: Item | B3: Description | C3: Unit | D3: Quantity | E3: Local Currency in BDT | G3: Foreign Currency in (xxx) | I3: Sales and Other Taxes
E5: Unit EXW Price1 | F5: Total EXW Price | G5: Unit EXW Price1 | H5: Total EXW Price | I5: Local Currency [BDT]
A6: 1 | B6: 2 | C6: 3 | D6: 4 | E6: 5 | F6: 6=4*5 | G6: 7 | H6: 8=4*7 | I6: 9
A7: Schedule No. 2A Plant and Mandatory Spare Parts Supplied From Within Employer's Country
A8: 1.Supply of 230 kV and 400kV double circuit towers, complete with all stubs, nuts, bolts, locking nuts, washers, phase conductors and earthwire, swivels/shackles, step bolts, tower notice and identification plates, ACDs, protective coating, earthing, etc.
A9: 1.1 | B9: Tower type "4D1-Q"
A10: 1.1.1 | B10: Tower type 4D1-Q+30 m | C10: each | D10: ='Schedule No. 1A'!E10 -> 3
A11: 1.1.2 | B11: Tower type 4D1-Q+40 m | C11: each | D11: ='Schedule No. 1A'!E11 -> 3 | J11: =SUM(D10:D11) -> 6
A12: 1.2 | B12: Tower type "2DL"
A13: 1.2.1 | B13: Tower type 2DL Standard | C13: each | D13: ='Schedule No. 1A'!E13 -> 10
A14: 1.2.2 | B14: Tower type 2DL+1.5 m | C14: each | D14: ='Schedule No. 1A'!E14 -> 10
A15: 1.2.3 | B15: Tower type 2DL+3 m | C15: each | D15: ='Schedule No. 1A'!E15 -> 18
A16: 1.2.4 | B16: Tower type 2DL+4.5 m | C16: each | D16: ='Schedule No. 1A'!E16 -> 28
A17: 1.2.5 | B17: Tower type 2DL+6 m | C17: each | D17: ='Schedule No. 1A'!E17 -> 33
A18: 1.2.6 | B18: Tower type 2DL+9 m | C18: each | D18: ='Schedule No. 1A'!E18 -> 43
A19: 1.2.7 | B19: Tower type 2DL+12 m | C19: each | D19: ='Schedule No. 1A'!E19 -> 36
A20: 1.3 | B20: Tower type "2D1" | J20: =SUM(D13:D19) -> 178
A21: 1.3.1 | B21: Tower type 2D1 Standard | C21: each | D21: ='Schedule No. 1A'!E21 -> 2
A22: 1.3.2 | B22: Tower type 2D1 +1.5 m | C22: each | D22: ='Schedule No. 1A'!E22 -> 2
A23: 1.3.3 | B23: Tower type 2D1 +3 m | C23: each | D23: ='Schedule No. 1A'!E23 -> 2 | L23: =J11+J20+J32+J40+J49+J100+J105 -> 323
A24: 1.3.4 | B24: Tower type 2D1 +4.5 m | C24: each | D24: ='Schedule No. 1A'!E24 -> 2
A25: 1.3.5 | B25: Tower type 2D1 +6 m | C25: each | D25: ='Schedule No. 1A'!E25 -> 2
A26: 1.3.6 | B26: Tower type 2D1 +9 m | C26: each | D26: ='Schedule No. 1A'!E26 -> 3
A27: 1.3.7 | B27: Tower type 2D1 +12 m | C27: each | D27: ='Schedule No. 1A'!E27 -> 4
A28: 1.3.8 | B28: Tower type 2D1 +15 m | C28: each | D28: ='Schedule No. 1A'!E28 -> 4
A29: 1.3.9 | B29: Tower type 2D1 +18 m | C29: each | D29: ='Schedule No. 1A'!E29 -> 3
A30: 1.3.10 | B30: Tower type 2D1 +21 m | C30: each | D30: ='Schedule No. 1A'!E30 -> 2
A31: 1.3.11 | B31: Tower type 2D1+25 m | C31: each | D31: ='Schedule No. 1A'!E31 -> 2
A32: 1.4 | B32: Tower type "2D25" | J32: =SUM(D21:D31) -> 28
A33: 1.4.1 | B33: Tower type 2D25 Standard | C33: each | D33: ='Schedule No. 1A'!E33 -> 5
A34: 1.4.2 | B34: Tower type 2D25 +1.5 m | C34: each | D34: ='Schedule No. 1A'!E34 -> 2
A35: 1.4.3 | B35: Tower type 2D25+3 m | C35: each | D35: ='Schedule No. 1A'!E35 -> 4
A36: 1.4.4 | B36: Tower type 2D25 +4.5 m | C36: each | D36: ='Schedule No. 1A'!E36 -> 2
A37: 1.4.5 | B37: Tower type 2D25 +6 m | C37: each | D37: ='Schedule No. 1A'!E37 -> 5
A38: 1.4.6 | B38: Tower type 2D25 +9 m | C38: each | D38: ='Schedule No. 1A'!E38 -> 11
A39: 1.4.7 | B39: Tower type 2D25 +12 m | C39: each | D39: ='Schedule No. 1A'!E39 -> 5
A40: 1.4.8 | B40: Tower type 2D25 +15 m | C40: each | D40: ='Schedule No. 1A'!E40 -> 4 | J40: =SUM(D33:D40) -> 38
A41: 1.5 | B41: Tower type "2DT6"
...

Sheet Schedule No. 2B
A1: Design, Supply, Installation, Testing & Commissioning of 230 kV and 132 kV Transmission Lines for Southern Area of Chattogram Division & Bangabandhu Hi-Tech City at Kaliakoir on Turnkey Basis (Contract No. PGCB/AIIB/000308-BGD/TL/Package-2)
A2: B. Bangabandhu Hi-Tech City-Kaliakoir 230 kV double circuit transmission line: 4.88 km (using Twin ACSR Mallard conductor)
A3: Item | B3: Description | C3: Unit | D3: Quantity | E3: Local Currency in BDT | G3: Foreign Currency in (xxx) | I3: Sales and Other Taxes
E5: Unit EXW Price1 | F5: Total EXW Price | G5: Unit EXW Price1 | H5: Total EXW Price | I5: Local Currency [BDT]
A6: 1 | B6: 2 | C6: 3 | D6: 4 | E6: 5 | F6: 6=4*5 | G6: 7 | H6: 8=4*7 | I6: 9
A7: Schedule No. 2B Plant and Mandatory Spare Parts Supplied From Within Employer's Country
A8: 1.Supply of 230 kV double circuit towers, complete with all stubs, nuts, bolts, locking nuts, washers, phase conductors and earthwire, swivels/shackles, step bolts, tower notice and identification plates, ACDs, protective coating, earthing, etc.
A9: 1.1 | B9: Tower type 2DL Standard | C9: each | D9: ='Schedule No. 1B'!E10 -> 1
A10: 1.1.1 | B10: Tower type 2DL+1.5 m | C10: each | D10: ='Schedule No. 1B'!E11 -> NIL
A11: 1.1.2 | B11: Tower type 2DL+3 m | C11: each | D11: ='Schedule No. 1B'!E12 -> NIL
A12: 1.1.3 | B12: Tower type 2DL+4.5 m | C12: each | D12: ='Schedule No. 1B'!E13 -> NIL
A13: 1.1.4 | B13: Tower type 2DL+6 m | C13: each | D13: ='Schedule No. 1B'!E14 -> 1
A14: 1.1.5 | B14: Tower type 2DL+9 m | C14: each | D14: ='Schedule No. 1B'!E15 -> 1
A15: 1.1.6 | B15: Tower type 2DL+12 m | C15: each | D15: ='Schedule No. 1B'!E16 -> 1
A16: 1.2 | B16: Tower type "2D1" | J16: =SUM(D9:D15) -> 4
A17: 1.2.1 | B17: Tower type 2D1 Standard | C17: each | D17: ='Schedule No. 1B'!E18 -> 1
A18: 1.2.2 | B18: Tower type 2D1 +1.5 m | C18: each | D18: ='Schedule No. 1B'!E19 -> NIL
A19: 1.2.3 | B19: Tower type 2D1 +3 m | C19: each | D19: ='Schedule No. 1B'!E20 -> NIL
A20: 1.2.4 | B20: Tower type 2D1 +4.5 m | C20: each | D20: ='Schedule No. 1B'!E21 -> NIL
A21: 1.2.5 | B21: Tower type 2D1 +6 m | C21: each | D21: ='Schedule No. 1B'!E22 -> NIL
A22: 1.2.6 | B22: Tower type 2D1 +9 m | C22: each | D22: ='Schedule No. 1B'!E23 -> 1
A23: 1.2.7 | B23: Tower type 2D1 +12 m | C23: each | D23: ='Schedule No. 1B'!E24 -> NIL
A24: 1.2.8 | B24: Tower type 2D1 +15 m | C24: each | D24: ='Schedule No. 1B'!E25 -> NIL
A25: 1.2.9 | B25: Tower type 2D1 +18 m | C25: each | D25: ='Schedule No. 1B'!E26 -> NIL
A26: 1.2.10 | B26: Tower type 2D1 +21 m | C26: each | D26: ='Schedule No. 1B'!E27 -> 1
A27: 1.3 | B27: Tower type "2D25" | J27: =SUM(D17:D26) -> 3
A28: 1.3.1 | B28: Tower type 2D25 Standard | C28: each | D28: ='Schedule No. 1B'!E29 -> 1
A29: 1.3.2 | B29: Tower type 2D25 +1.5 m | C29: each | D29: ='Schedule No. 1B'!E30 -> NIL
A30: 1.3.3 | B30: Tower type 2D25+3 m | C30: each | D30: ='Schedule No. 1B'!E31 -> 1 | K30: =SUM(J16+J27+J35+J44) -> 14
A31: 1.3.4 | B31: Tower type 2D25 +4.5 m | C31: each | D31: ='Schedule No. 1B'!E32 -> NIL
A32: 1.3.5 | B32: Tower type 2D25 +6 m | C32: each | D32: ='Schedule No. 1B'!E33 -> NIL
A33: 1.3.6 | B33: Tower type 2D25 +9 m | C33: each | D33: ='Schedule No. 1B'!E34 -> 1
A34: 1.3.7 | B34: Tower type 2D25 +12 m | C34: each | D34: ='Schedule No. 1B'!E35 -> NIL
A35: 1.3.8 | B35: Tower type 2D25 +15 m | C35: each | D35: ='Schedule No. 1B'!E36 -> 1 | J35: =SUM(D28:D35) -> 4
A36: 1.4 | B36: Tower type "2DT6"
A37: 1.4.1 | B37: Tower type 2DT6 Standard | C37: each | D37: ='Schedule No. 1B'!E38 -> 1
A38: 1.4.2 | B38: Tower type 2DT6+1.5 m | C38: each | D38: ='Schedule No. 1B'!E39 -> NIL
A39: 1.4.3 | B39: Tower type 2DT6+3 m | C39: each | D39: ='Schedule No. 1B'!E40 -> NIL
A40: 1.4.4 | B40: Tower type 2DT6+4.5 m | C40: each | D40: ='Schedule No. 1B'!E41 -> NIL
A41: 1.4.5 | B41: Tower type 2DT6+6 m | C41: each | D41: ='Schedule No. 1B'!E42 -> 1
...

Sheet Schedule No. 2C
A1: Design, Supply, Installation, Testing & Commissioning of 230 kV and 132 kV Transmission Lines for Southern Area of Chattogram Division & Bangabandhu Hi-Tech City at Kaliakoir on Turnkey Basis (Contract No. PGCB/AIIB/000308-BGD/TL/Package-2)
A2: C. Cox's Bazar (North)-Teknaf 132 kV double circuit transmission line: 65 km (using Single ACSR Grosbeak Conductor)
A3: Item | B3: Description | C3: Unit | D3: Quantity | E3: Local Currency in BDT | G3: Foreign Currency in (xxx) | I3: Sales and Other Taxes
E5: Unit EXW Price1 | F5: Total EXW Price | G5: Unit EXW Price1 | H5: Total EXW Price | I5: Local Currency [BDT]
A6: 1 | B6: 2 | C6: 3 | D6: 4 | E6: 5 | F6: 6=4*5 | G6: 7 | H6: 8=4*7 | I6: 9
A7: Schedule No. 2C Plant and Mandatory Spare Parts Supplied From Within Employer's Country
A8: 1.Supply of 132 kV double circuit towers, complete with all stubs, nuts, bolts, locking nuts, washers, phase conductors and earthwire, swivels/shackles, step bolts, tower notice and identification plates, ACDs, protective coating, earthing, etc.
A9: 1.1 | B9: Tower type "1DL"
A10: 1.1.1 | B10: Tower type 1DL Standard | C10: each | D10: ='Schedule No. 1C'!E10 -> 20
A11: 1.1.2 | B11: Tower type 1DL+1.5 m | C11: each | D11: ='Schedule No. 1C'!E11 -> 25
A12: 1.1.3 | B12: Tower type 1DL+3 m | C12: each | D12: ='Schedule No. 1C'!E12 -> 25
A13: 1.1.4 | B13: Tower type 1DL+4.5 m | C13: each | D13: ='Schedule No. 1C'!E13 -> 40
A14: 1.1.5 | B14: Tower type 1DL+6 m | C14: each | D14: ='Schedule No. 1C'!E14 -> 52
A15: 1.1.6 | B15: Tower type 1DL+9 m | C15: each | D15: ='Schedule No. 1C'!E15 -> 52
A16: 1.2 | B16: Tower type "1D1" | J16: =SUM(D10:D15) -> 214
A17: 1.2.1 | B17: Tower type 1D1 Standard | C17: each | D17: ='Schedule No. 1C'!E17 -> NIL
A18: 1.2.2 | B18: Tower type 1D1 +1.5 m | C18: each | D18: ='Schedule No. 1C'!E18 -> NIL
A19: 1.2.3 | B19: Tower type 1D1 +3 m | C19: each | D19: ='Schedule No. 1C'!E19 -> NIL
A20: 1.2.4 | B20: Tower type 1D1 +4.5 m | C20: each | D20: ='Schedule No. 1C'!E20 -> NIL
A21: 1.2.5 | B21: Tower type 1D1 +6 m | C21: each | D21: ='Schedule No. 1C'!E21 -> 5
A22: 1.2.6 | B22: Tower type 1D1 +9 m | C22: each | D22: ='Schedule No. 1C'!E22 -> 5
A23: 1.2.7 | B23: Tower type 1D1 +12 m | C23: each | D23: ='Schedule No. 1C'!E23 -> 10
A24: 1.3 | B24: Tower type "1D25" | J24: =SUM(D17:D23) -> 20
A25: 1.3.1 | B25: Tower type 1D25 Standard | C25: each | D25: ='Schedule No. 1C'!E25 -> 5
A26: 1.3.2 | B26: Tower type 1D25 +1.5 m | C26: each | D26: ='Schedule No. 1C'!E26 -> 7
A27: 1.3.3 | B27: Tower type 1D25+3 m | C27: each | D27: ='Schedule No. 1C'!E27 -> 10
A28: 1.3.4 | B28: Tower type 1D25 +9 m | C28: each | D28: ='Schedule No. 1C'!E28 -> 18
A29: 1.4 | B29: Tower type "1DT6"
A30: 1.4.1 | B30: Tower type 1DT6 Standard | C30: each | D30: ='Schedule No. 1C'!E30 -> 5
A31: 1.4.2 | B31: Tower type 1DT6+1.5 m | C31: each | D31: ='Schedule No. 1C'!E31 -> 5
A32: 1.4.3 | B32: Tower type 1DT6+3 m | C32: each | D32: ='Schedule No. 1C'!E32 -> 5
A33: 1.4.4 | B33: Tower type 1DT6+4.5 m | C33: each | D33: ='Schedule No. 1C'!E33 -> 9
A34: 1.4.5 | B34: Tower type 1DT6+6 m | C34: each | D34: ='Schedule No. 1C'!E34 -> 12
A35: 1.4.6 | B35: Tower type 1DT6+9 m | C35: each | D35: ='Schedule No. 1C'!E35 -> 12
A36: 1.5 | B36: Tower Type 1QL
A37: 1.5.1 | B37: Tower Type 1QL Standard | C37: each | D37: ='Schedule No. 1C'!E37 -> NIL
A38: 1.5.2 | B38: Tower Type 1QL+1.5 m | C38: each | D38: ='Schedule No. 1C'!E37 -> NIL
A39: 1.5.3 | B39: Tower Type 1QL+3.0 m | C39: each | D39: ='Schedule No. 1C'!E39 -> 3
A40: 1.5.4 | B40: Tower Type 1QL+4.5 m | C40: each | D40: ='Schedule No. 1C'!E40 -> NIL
A41: 1.5.5 | B41: Tower Type 1QL+6.0 m | C41: each | D41: ='Schedule No. 1C'!E41 -> 3
...

Sheet Schedule No. 2D
A1: Design, Supply, Installation, Testing & Commissioning of 230 kV and 132 kV Transmission Lines for Southern Area of Chattogram Division & Bangabandhu Hi-Tech City at Kaliakoir on Turnkey Basis (Contract No. PGCB/AIIB/000308-BGD/TL/Package-2)
A2: D. 132 kV Line-In-Line-Out (LILO) at Cox’s Bazar (North) substation from Dohazari - Cox’s Bazar 132 kV double circuit transmission line: 1.55 km (using Single ACSR Grosbeak equivalent ACCC conductor)
A3: Item | B3: Description | C3: Unit | D3: Quantity | E3: Local Currency in BDT | G3: Foreign Currency in (xxx) | I3: Sales and Other Taxes
E5: Unit EXW Price1 | F5: Total EXW Price | G5: Unit EXW Price1 | H5: Total EXW Price | I5: Local Currency [BDT]
A6: 1 | B6: 2 | C6: 3 | D6: 4 | E6: 5 | F6: 6=4*5 | G6: 7 | H6: 8=4*7 | I6: 9
A7: Schedule No. 2D Plant and Mandatory Spare Parts Supplied From Within Employer's Country
A8: 1.Supply of 132 kV double circuit towers, complete with all stubs, nuts, bolts, locking nuts, washers, phase conductors and earthwire, swivels/shackles, step bolts, tower notice and identification plates, ACDs, protective coating, earthing, etc.
A9: 1 | B9: Supply of 132 kV Double circuit towers, complete with all stubs, nuts, bolts, locking nuts, washers, phase conductors and earthwire, swivels/shackles, step bolts, tower notice and identification plates, ACDs, protective coating, earthing, etc.
A10: 1.1 | B10: Tower Type 1DT6
A11: 1.1.1 | B11: Tower Type 1DT6+6.0 m | C11: each | D11: ='Schedule No. 1D'!E11 -> 1
A12: 1.1.2 | B12: Tower Type 1DT6+9.0 m | C12: each | D12: ='Schedule No. 1D'!E12 -> 1
A13: 2 | B13: Supply of 132 kV Four circuit towers, complete with all stubs, nuts, bolts, locking nuts, washers, phase conductors and earthwire, swivels/shackles, step bolts, tower notice and identification plates, ACDs, protective coating, earthing, etc.
A14: 2.1 | B14: Tower Type 1QL
A15: 2.1.1 | B15: Tower Type 1QL+9.0 m | C15: each | D15: ='Schedule No. 1D'!E15 -> 1
A16: 2.2 | B16: Tower Type 1Q15
A17: 2.2.1 | B17: Tower type 1Q15 +15.0 m | C17: each | D17: ='Schedule No. 1D'!E17 -> 1
A18: 2.3 | B18: Tower Type 1Q30
A19: 2.3.1 | B19: Tower type 1Q30 +9.0 m | C19: each | D19: ='Schedule No. 1D'!E19 -> 2
A20: 2.4 | B20: Tower Type 1QT6
A21: 2.4.1 | B21: Tower Type 1QT6+9.0 m | C21: each | D21: ='Schedule No. 1D'!E21 -> 3
A22: 3 | B22: Auxiliary Crossarm for tower
A23: 3.1 | B23: Auxiliary Crossarm for Tower Type 1QT6 | C23: per set of three | D23: ='Schedule No. 1D'!E23 -> 4
A24: 4 | B24: Phase conductor, earthwire and OPGW cable, complete with repair sleeves and joints
A25: 4.1 | B25: "ACSR Grosbeak equivalent ACCC" (four circuit line, all circuits erected, one conductors per phase) [3] | C25: Route km3 | D25: ='Schedule No. 1D'!E25 -> 1.55
A26: 4.2 | B26: Two optical fibre ground wire, 24 fibres 7×3.25 steel earthwire equivalent OPGW, including joint box | C26: Route km3 | D26: ='Schedule No. 1D'!E26 -> 1.55
A27: 5 | B27: Insulator strings, with associated suspension and tension clamps for single "ACSR Grosbeak equivalent ACCC " Conductor
A28: 5.1 | B28: a) 70kN suspension Insulators set for single "ACSR Grosbeak equivalent ACCC" Conductor (Suspension) - disc only | C28: Set | D28: ='Schedule No. 1D'!E28 -> 12 | J28: =SUM(D11:D21) -> 9
B29: b) 70kN suspension Insulators set for single "ACSR Grosbeak equivalent ACCC" Conductor (Suspension) - hardware fittings only | C29: Set | D29: ='Schedule No. 1D'!E29 -> 12
A30: 5.2 | B30: a) 120kN tension Insulators Set for single "ACSR Grosbeak equivalent ACCC'' Conductor - disc only | C30: Set | D30: ='Schedule No. 1D'!E30 -> 156
B31: b) 120kN tension Insulators Set for single "ACSR Grosbeak equivalent ACCC'' Conductor - hardware fittings only | C31: Set | D31: ='Schedule No. 1D'!E31 -> 156
A32: 5.3 | B32: a) 70kN jumper suspension Insulators Set forsingle "ACSR Grosbeak equivalent ACCC" Conductor - disc only | C32: Set | D32: ='Schedule No. 1D'!E32 -> 66
B33: b) 70kN jumper suspension Insulators Set forsingle "ACSR Grosbeak equivalent ACCC" Conductor - hardware fittings only | C33: Set | D33: ='Schedule No. 1D'!E33 -> 66
A34: 5.4 | B34: a) 70kN single upright low duty Insulators Set for single "ACSR Grosbeak equivalent ACCC" Conductor - disc only | C34: Set | D34: ='Schedule No. 1D'!E34 -> 12
B35: b) 70kN single upright low duty Insulators Set for single "ACSR Grosbeak equivalent ACCC" Conductor - hardware fittings only | C35: Set | D35: ='Schedule No. 1D'!E35 -> 12
A36: 5.5 | B36: a) 70kN single inverted low duty Insulators Set for single "ACSR Grosbeak equivalent ACCC" Conductor - disc only | C36: Set | D36: ='Schedule No. 1D'!E36 -> 12
B37: b) 70kN single inverted low duty Insulators Fittings Set for single "ACSR Grosbeak equivalent ACCC" Conductor - hardware fittings only | C37: Set | D37: ='Schedule No. 1D'!E37 -> 12
A38: 6 | B38: OPGW sets, complete with all accessories, incl. armour rods and earth bounds
A39: 6.1 | B39: Suspension set (including all fittings and accessories for surplus and to guide the OPGW to the joint box) | C39: set | D39: ='Schedule No. 1D'!E39 -> 2
A40: 6.2 | B40: Tension set (including all fittings and accessories for surplus and to guide the OPGW to the joint box) | C40: set | D40: ='Schedule No. 1D'!E40 -> 28
A41: 7 | B41: Dampers
...

Sheet Schedule No. 3
A1: Design, Supply, Installation, Testing & Commissioning of 230 kV and 132 kV Transmission Lines for Southern Area of Chattogram Division & Bangabandhu Hi-Tech City at Kaliakoir on Turnkey Basis (PGCB/AIIB/000308-BGD/TL/Package-2)
A4: Item | B4: Description | C4: Unit | D4: Quantity | E4: Unit Price1 | G4: Total Price1
E6: Local Currency Portion [BDT] | F6: Foreign Currency Portion [xxx] | G6: Local Currency Portion [BDT] | H6: Foreign Currency Portion [xxx]
A7: 1 | B7: 2 | C7: 3 | D7: 4 | E7: 5 | F7: 6 | G7: 7 = 4 x 5 | H7: 8 = 4 x 6
A8: Schedule No. 3 Design Services (Scope-A, B, C & D)
A9: 1 | B9: Line Design
A10: 1.1 | B10: Detailed line design including plan and profiles; conductor, earthwire and OPGW sag tension calculations; tower spotting, establishment of line schedule; Design of insulator strings, OPGW and earthwire attachments | C10: Lump sum | D10: 1
A12: 2 | B12: Tower/Pole Test
A13: 2.1 | B13: Proto assembly of all type towers with all extensions to prove compliance with specification. Payment for successful test only.
A14: 2.1.1 | B14: 4D1 | C14: Lot | D14: 1
A15: 2.1.2 | B15: 2DL | C15: Lot | D15: 1
A16: 2.1.3 | B16: 2D1 | C16: Lot | D16: 1
A17: 2.1.4 | B17: 2D25 | C17: Lot | D17: 1
A18: 2.1.5 | B18: 2DT6 | C18: Lot | D18: 1
A19: 2.1.6 | B19: 2D9 | C19: Lot | D19: 1
A20: 2.1.7 | B20: 2DR | C20: Lot | D20: 1
A21: 2.1.8 | B21: 2DAX | C21: Lot | D21: 1
A22: 2.1.9 | B22: 2QL | C22: Lot | D22: 1
A23: 2.1.10 | B23: 2Q1 | C23: Lot | D23: 1
A24: 2.1.11 | B24: 2Q15 | C24: Lot | D24: 1
A25: 2.1.12 | B25: 2Q30 | C25: Lot | D25: 1
... A34: 2.1.21 | B34: 1QT6 | C34: Lot | D34: 1
A35: 2.2 | B35: Proto assembly of all type poles with all extensions to prove compliance with specification. Payment for successful test only.
A36: 2.2.1 | B36: 1DLP
A37: 2.2.2 | B37: 1D1P | C37: Lot | D37: 1
A38: 2.2.3 | B38: 1D25P | C38: Lot | D38: 1
A39: 2.2.4 | B39: 1DT6P | C39: Lot | D39: 1
A40: 2.2.5 | B40: 1D9P | C40: Lot | D40: 1
A41: 3 | B41: Foundation Design | C41: Lot | D41: 1
A42: 3.1 | B42: Foundation design for all soil types including additional soil investigation and additional soil resistivity measurement | C42: Lump sum | D42: 1
A43: Total Columns 7 & 8 to be carried forward to Schedule No. 5 - Grand Summary
A44: 4 | B44: Total Tax and VAT deductable at source(TDS & VDS) under the schedule 3(to be quoted in the currency similar as above)2
G47: Name of Bidder
G49: Signature of Bidder
A52: 1. Specify currencies in accordance with ITB 19.1 of the BDS. Create additional columns for up to a maximum of three foreign currencies, if so required.
A53: 2. Bidder shall quote the amount considering clause 14.1 of section 8(Special Conditions of Contract), Volume 1 of 3 of the bidding document. The amount quoted by bidder is subject to arithmatic correction by Employer as required.

Sheet Schedule No. 4A
A1: Design, Supply, Installation, Testing & Commissioning of 230 kV and 132 kV Transmission Lines for Southern Area of Chattogram Division & Bangabandhu Hi-Tech City at Kaliakoir on Turnkey Basis (Contract No. PGCB/AIIB/000308-BGD/TL/Package-2)
A3: A. Anwara-Cox's Bazar (North) 230 kV double circuit transmission line (Initially charged at 132 kV): 109 km with 0.49 km river crossing portion (using twin ACSR mallard Conductor)
A4: Item | B4: Description | C4: Unit | D4: Quantity | E4: Unit Price1 | G4: Total Price1
E6: Local Currency Portion [BDT] | F6: Foreign Currency Portion [xxx] | G6: Local Currency Portion [BDT] | H6: Foreign Currency Portion [xxx]
A7: 1 | B7: 2 | C7: 3 | D7: 4 | E7: 5 | F7: 6 | G7: 7 = 4 x 5 | H7: 8 = 4 x 6
A8: Schedule No. 4A Installation and Other Services
A9: 1 | B9: Survey and soil investigation works
A10: 1.1 | B10: Survey Work
A11: 1.1.1 | B11: Check survey in accordance with the requirements of the technical specification, incl. Full ground survey with change of route, if any, tower plotting and preparation and submission of route maps, profile drawings, SIMM documents, etc. | C11: Route km | D11: 109.49
A13: 1.2 | B13: Geotechnical Investigations incl. taking samples, logging and lab testing
A14: 1.2.1 | B14: Boreholes for geotechnical investigation, incl. laboratory test, borehole logs, sampling and interpretive report as per geotechnical specification
A15: (a) | B15: Level 2 | C15: borehole | D15: 1
A16: (b) | B16: Level 4 | C16: borehole | D16: 1
A17: 1.2.2 | B17: Soil resistivity tests | C17: per tower | D17: 340
A18: 2 | B18: Foundations for towers/Poles including all setting out, Concrete, Reinforcement, Excavation, Pumping, Stub-Setting, Geotechnical Investigation (Level 2/Level 4), Shuttering, Leveling, Timbering, supply & Installation of foundation steelwork, Earthing Materials,Backfilling, approved Protective Coating & site clearing etc.
A19: 2.1 | B19: Tower type "4D1-Q" (Any extension)
A20: 2.1.1 | B20: Pile Foundation for any Soil Category | C20: per tower | D20: 2
A21: 2.1.2 | B21: Piled Foundation with 1.0/2.0/3.0m raised chimney for any Soil Category | C21: per tower | D21: 2 | I21: =SUM(D20:D21) -> 4
A22: 2.2 | B22: Tower type "2DL"
A23: 2.2.1 | B23: Pile Foundation for Soil Category-2 | C23: per tower | D23: 17
A24: 2.2.2 | B24: Pile Foundation for Soil Category-3 | C24: per tower | D24: 17
A25: 2.2.3 | B25: Pile Foundation for Soil Category-4 | C25: per tower | D25: 14
A26: 2.2.4 | B26: Piled Foundation with 1.0m raised chimney for Soil Category-2 | C26: per tower | D26: 7
A27: 2.2.5 | B27: Piled Foundation with 1.0m raised chimney for Soil Category-3 | C27: per tower | D27: 8
A28: 2.2.6 | B28: Piled Foundation with 1.0m raised chimney for Soil Category-4 | C28: per tower | D28: 7
A29: 2.2.7 | B29: Piled Foundation with 2.0m raised chimney for Soil Category-2 | C29: per tower | D29: 7
A30: 2.2.8 | B30: Piled Foundation with 2.0m raised chimney for Soil Category-3 | C30: per tower | D30: 8
A31: 2.2.9 | B31: Piled Foundation with 2.0m raised chimney for Soil Category-4 | C31: per tower | D31: 7
A32: 2.2.10 | B32: Piled Foundation with 3.0m raised chimney for Soil Category-2 | C32: per tower | D32: 30
A33: 2.2.11 | B33: Piled Foundation with 3.0m raised chimney for Soil Category-3 | C33: per tower | D33: 30
A34: 2.2.12 | B34: Piled Foundation with 3.0m raised chimney for Soil Category-4 | C34: per tower | D34: 26
A35: 2.3 | B35: Tower type "2D1" (Any extension) | I35: =SUM(D23:D34) -> 178 | K35: 178
A36: 2.3.1 | B36: Pile Foundation for Soil Category-2 | C36: per tower | D36: 5
A37: 2.3.2 | B37: Pile Foundation for Soil Category-3 | C37: per tower | D37: 5
A38: 2.3.3 | B38: Pile Foundation for Soil Category-4 | C38: per tower | D38: 4
A39: 2.3.4 | B39: Piled Foundation with 1.0m raised chimney for any Soil Category | C39: per tower | D39: 4
A40: 2.3.5 | B40: Piled Foundation with 2.0m raised chimney for any Soil Category | C40: per tower | D40: 4 | I40: =SUM(D36:D41) -> 26 | K40: 24
A41: 2.3.6 | B41: Piled Foundation with 3.0m raised chimney for any Soil Category | C41: per tower | D41: 4
A42: 2.4 | B42: Tower type "2D25"
A43: 2.4.1 | B43: Pile Foundation for Soil Category-2 | C43: per tower | D43: 9
...

Sheet Schedule No. 4B
A1: Design, Supply, Installation, Testing & Commissioning of 230 kV and 132 kV Transmission Lines for Southern Area of Chattogram Division & Bangabandhu Hi-Tech City at Kaliakoir on Turnkey Basis (Contract No. PGCB/AIIB/000308-BGD/TL/Package-2)
A3: B. Bangabandhu Hi-Tech City-Kaliakoir 230 kV double circuit transmission line: 4.88 km (using Twin ACSR Mallard conductor)
A4: Item | B4: Description | C4: Unit | D4: Quantity | E4: Unit Price1 | G4: Total Price1
E6: Local Currency Portion [BDT] | F6: Foreign Currency Portion [xxx] | G6: Local Currency Portion [BDT] | H6: Foreign Currency Portion [xxx]
A7: 1 | B7: 2 | C7: 3 | D7: 4 | E7: 5 | F7: 6 | G7: 7 = 4 x 5 | H7: 8 = 4 x 6
A8: Schedule No. 4B Installation and Other Services
A9: 1 | B9: Survey and soil investigation works
A10: 1.1 | B10: Survey Work
A11: 1.1.1 | B11: Check survey in accordance with the requirements of the technical specification, incl. Full ground survey with change of route, if any, tower plotting and preparation and submission of route maps, profile drawings, SIMM documents, etc. | C11: Route km | D11: 4.88
A13: 1.2 | B13: Geotechnical Investigations incl. taking samples, logging and lab testing
A14: 1.2.1 | B14: Boreholes for geotechnical investigation, incl. laboratory test, borehole logs, sampling and interpretive report as per geotechnical specification
A15: (a) | B15: Level 2 | C15: borehole | D15: 1
A16: (b) | B16: Level 4 | C16: borehole | D16: 1
A17: 1.2.2 | B17: Soil resistivity tests | C17: per tower | D17: 24
A18: 2 | B18: Foundations for towers/Poles including all setting out, Concrete, Reinforcement, Excavation, Pumping, Stub-Setting, Geotechnical Investigation (Level 2/Level 4), Shuttering, Leveling, Timbering, supply & Installation of foundation steelwork, Earthing Materials,Backfilling, approved Protective Coating & site clearing etc.
A19: 2.1 | B19: Tower type "2DL"
A20: 2.1.1 | B20: Pile Foundation for Soil Category-2 | C20: per tower | D20: 1
A21: 2.1.2 | B21: Pile Foundation for Soil Category-3 | C21: per tower | D21: 1
A22: 2.1.3 | B22: Pile Foundation for Soil Category-4 | C22: per tower | D22: 1
A23: 2.1.4 | B23: Piled Foundation with 1.0/2.0m raised chimney for any Soil Category | C23: per tower | D23: 1
A24: 2.2 | B24: Tower type "2D1" (Any extension) | I24: =SUM(D20:D23) -> 4
A25: 2.2.1 | B25: Pile Foundation for any Soil Category | C25: per tower | D25: 1
A26: 2.2.2 | B26: Piled Foundation with 1.0m raised chimney for any Soil Category | C26: per tower | D26: 1
A27: 2.2.3 | B27: Piled Foundation with 2.0m raised chimney for any Soil Category | C27: per tower | D27: 1
A28: 2.3 | B28: Tower type "2D25" | I28: =SUM(D25:D27) -> 3
A29: 2.3.1 | B29: Pile Foundation for any Soil Category | C29: per tower | D29: 2
A30: 2.3.2 | B30: Piled Foundation with 1.0m raised chimney for any Soil Category | C30: per tower | D30: 1
A31: 2.3.3 | B31: Piled Foundation with 2.0m raised chimney for any Soil Category | C31: per tower | D31: 1 | I31: =SUM(D29:D31) -> 4
A32: 2.4 | B32: Tower type "2DT6"
A33: 2.4.1 | B33: Pile Foundation for any Soil Category | C33: per tower | D33: 1
A34: 2.4.2 | B34: Piled Foundation with 1.0m raised chimney for any Soil Category | C34: per tower | D34: 1
A35: 2.4.3 | B35: Piled Foundation with 2.0m raised chimney for any Soil Category | C35: per tower | D35: 1
A36: 2.5 | B36: Tower type "2QL" | I36: =SUM(D33:D35) -> 3
A37: 2.5.1 | B37: Pile Foundation for any Soil Category | C37: per tower | D37: 1
A38: 2.5.2 | B38: Piled Foundation with 1.0m/2.0m raised chimney for any Soil Category | C38: per tower | D38: 1 | I38: =SUM(D37:D38) -> 2
A39: 2.6 | B39: Tower type "2Q1"
A40: 2.6.1 | B40: Pile Foundation for any Soil Category | C40: per tower | D40: 1
A41: 2.6.2 | B41: Piled Foundation with 1.0m/2.0m raised chimney for any Soil Category | C41: per tower | D41: 1 | I41: =SUM(D40:D41) -> 2
A42: 2.7 | B42: Tower type "2Q15"
A43: 2.7.1 | B43: Pile Foundation for any Soil Category | C43: per tower | D43: 1
...

Sheet Schedule No. 4C
A1: Design, Supply, Installation, Testing & Commissioning of 230 kV and 132 kV Transmission Lines for Southern Area of Chattogram Division & Bangabandhu Hi-Tech City at Kaliakoir on Turnkey Basis (Contract No. PGCB/AIIB/000308-BGD/TL/Package-2)
A3: C. Cox's Bazar (North)-Teknaf 132 kV double circuit transmission line: 65 km (using Single ACSR Grosbeak Conductor)
A4: Item | B4: Description | C4: Unit | D4: Quantity | E4: Unit Price1 | G4: Total Price1
E6: Local Currency Portion [BDT] | F6: Foreign Currency Portion [xxx] | G6: Local Currency Portion [BDT] | H6: Foreign Currency Portion [xxx]
A7: 1 | B7: 2 | C7: 3 | D7: 4 | E7: 5 | F7: 6 | G7: 7 = 4 x 5 | H7: 8 = 4 x 6
A8: Schedule No. 4C Installation and Other Services
A9: 1 | B9: Survey and soil investigation works
A10: 1.1 | B10: Survey Work
A11: 1.1.1 | B11: Check survey in accordance with the requirements of the technical specification, incl. Full ground survey with change of route, if any, tower plotting and preparation and submission of route maps, profile drawings, SIMM documents, etc. | C11: Route km | D11: 65
A13: 1.2 | B13: Geotechnical Investigations incl. taking samples, logging and lab testing
A14: 1.2.1 | B14: Boreholes for geotechnical investigation, incl. laboratory test, borehole logs, sampling and interpretive report as per geotechnical specification
A15: (a) | B15: Level 2 | C15: borehole | D15: 1
A16: (b) | B16: Level 4 | C16: borehole | D16: 1
A17: 1.2.2 | B17: Soil resistivity tests | C17: per tower | D17: 350
A18: 2 | B18: Foundations for towers/Poles including all setting out, Concrete, Reinforcement, Excavation, Pumping, Stub-Setting, Geotechnical Investigation (Level 2/Level 4), Shuttering, Leveling, Timbering, supply & Installation of foundation steelwork, Earthing Materials,Backfilling, approved Protective Coating & site clearing etc.
A19: 2.1 | B19: Tower type "1DL"
A20: 2.1.1 | B20: Pile Foundation for Soil Category-2 | C20: per tower | D20: 60
A21: 2.1.2 | B21: Pile Foundation for Soil Category-3 | C21: per tower | D21: 60
A22: 2.1.3 | B22: Pile Foundation for Soil Category-4 | C22: per tower | D22: 30
A23: 2.1.4 | B23: Piled Foundation with 1.0m raised chimney for Soil Category-2 | C23: per tower | D23: 12
A24: 2.1.5 | B24: Piled Foundation with 1.0m raised chimney for Soil Category-3 | C24: per tower | D24: 12
A25: 2.1.6 | B25: Piled Foundation with 1.0m raised chimney for Soil Category-4 | C25: per tower | D25: 8
A26: 2.1.7 | B26: Piled Foundation with 2.0m raised chimney for Soil Category-2 | C26: per tower | D26: 12
A27: 2.1.8 | B27: Piled Foundation with 2.0m raised chimney for Soil Category-3 | C27: per tower | D27: 12
A28: 2.1.9 | B28: Piled Foundation with 2.0m raised chimney for Soil Category-4 | C28: per tower | D28: 8
A29: 2.2 | B29: Tower type "1D1" (Any extension) | I29: =SUM(D20:D28) -> 214
A30: 2.2.1 | B30: Pile Foundation for Soil Category-2 | C30: per tower | D30: 5
A31: 2.2.2 | B31: Pile Foundation for Soil Category-3 | C31: per tower | D31: 5
A32: 2.2.3 | B32: Pile Foundation for Soil Category-4 | C32: per tower | D32: 4
A33: 2.2.4 | B33: Piled Foundation with 1.0m raised chimney for any Soil Category | C33: per tower | D33: 2
A34: 2.2.5 | B34: Piled Foundation with 2.0m raised chimney for any Soil Category | C34: per tower | D34: 2 | I34: =SUM(D30:D34) -> 18
A35: 2.3 | B35: Tower type "1D25"
A36: 2.3.1 | B36: Pile Foundation for Soil Category-2 | C36: per tower | D36: 9
A37: 2.3.2 | B37: Pile Foundation for Soil Category-3 | C37: per tower | D37: 11
A38: 2.3.3 | B38: Pile Foundation for Soil Category-4 | C38: per tower | D38: 9
A39: 2.3.4 | B39: Piled Foundation with 1.0m raised chimney for any Soil Category | C39: per tower | D39: 6
A40: 2.3.5 | B40: Piled Foundation with 2.0m raised chimney for any Soil Category | C40: per tower | D40: 5 | I40: =SUM(D36:D40) -> 40
A41: 2.4 | B41: Tower type "1DT6"
A42: 2.4.1 | B42: Pile Foundation for Soil Category-2 | C42: per tower | D42: 13
A43: 2.4.2 | B43: Pile Foundation for Soil Category-3 | C43: per tower | D43: 13
...

Sheet Schedule No. 4D
A1: Design, Supply, Installation, Testing & Commissioning of 230 kV and 132 kV Transmission Lines for Southern Area of Chattogram Division & Bangabandhu Hi-Tech City at Kaliakoir on Turnkey Basis (Contract No. PGCB/AIIB/000308-BGD/TL/Package-2)
A3: D. 132 kV Line-In-Line-Out (LILO) at Cox’s Bazar (North) substation from Dohazari - Cox’s Bazar 132 kV double circuit transmission line: 1.55 km (using Single ACSR Grosbeak equivalent ACCC conductor)
A4: Item | B4: Description | C4: Unit | D4: Quantity | E4: Unit Price1 | G4: Total Price1
E6: Local Currency Portion [BDT] | F6: Foreign Currency Portion [xxx] | G6: Local Currency Portion [BDT] | H6: Foreign Currency Portion [xxx]
A7: 1 | B7: 2 | C7: 3 | D7: 4 | E7: 5 | F7: 6 | G7: 7 = 4 x 5 | H7: 8 = 4 x 6
A8: Schedule No. 4D Installation and Other Services
A9: 1 | B9: Survey and soil investigation works
A10: 1.1 | B10: Survey Work
A11: 1.1.1 | B11: Check survey in accordance with the requirements of the technical specification, incl. Full ground survey with change of route, if any, tower plotting and preparation and submission of route maps, profile drawings, SIMM documents, etc. | C11: Route km | D11: 1.55
A13: 1.2 | B13: Geotechnical Investigations incl. taking samples, logging and lab testing
A14: 1.2.1 | B14: Boreholes for geotechnical investigation, incl. laboratory test, borehole logs, sampling and interpretive report as per geotechnical specification
A15: (a) | B15: Level 2 | C15: borehole | D15: 1
A16: (b) | B16: Level 4 | C16: borehole | D16: 1
A17: 1.2.2 | B17: Soil resistivity tests | C17: per tower | D17: 9
A18: 2 | B18: Foundations for towers/Poles including all setting out, Concrete, Reinforcement, Excavation, Pumping, Stub-Setting, Geotechnical Investigation (Level 2/ Level 4), Shuttering, Leveling, Timbering, supply & Installation of foundation steelwork, Earthing Materials,Backfilling, approved Protective Coating & site clearing etc.
A19: 2.1 | B19: Tower type "1DT6"
A20: 2.1.1 | B20: Pile Foundation for any Soil Category with 1/2 m raised chimney | C20: per tower | D20: 2
A21: 2.2 | B21: Tower Type "1QL"
A22: 2.2.1 | B22: Pile Foundation for any Soil Category with 1/2 m raised chimney | C22: per tower | D22: 1
A23: 2.3 | B23: Tower Type "1Q15"
A24: 2.3.1 | B24: Pile Foundation for any Soil Category with 1/2 m raised chimney | C24: per tower | D24: 1
A25: 2.4 | B25: Tower Type "1Q30"
A26: 2.4.1 | B26: Pile Foundation for any Soil Category with 1/2 m raised chimney | C26: per tower | D26: 2
A27: 2.5 | B27: Tower Type "1QT6"
A28: 2.5.1 | B28: Pile Foundation for any Soil Category with 1/2 m raised chimney | C28: per tower | D28: 3
A29: 3 | B29: Erection of 132kV double circuit Towers/Poles complete with all stubs, nuts, bolts, locking nuts, washers, phase conductor and earthwire swivels/shackles, step bolts, tower notice and identification plates, ACDs, ptotective coating, earthing etc. | I29: =SUM(D20:D28) -> 9
A30: 3.1 | B30: Tower type "1DT6"
A31: 3.1.1 | B31: Tower type 1DT6+6 m | C31: each | D31: ='Schedule No. 1D'!E11 -> 1
A32: 3.1.2 | B32: Tower type 1DT6+9 m | C32: each | D32: ='Schedule No. 1D'!E12 -> 1
A33: 3.2 | B33: Tower Type "1QL"
A34: 3.2.1 | B34: Tower type 1QL+9 m | C34: each | D34: ='Schedule No. 1D'!E15 -> 1
A35: 3.3 | B35: Tower Type "1Q15"
A36: 3.3.1 | B36: Tower type 1Q15+9 m | C36: each | D36: ='Schedule No. 1D'!E17 -> 1
A37: 3.4 | B37: Tower Type "1Q30"
A38: 3.4.1 | B38: Tower type 1Q30+9 m | C38: each | D38: ='Schedule No. 1D'!E19 -> 2
A39: 3.5 | B39: Tower Type "1QT6"
A40: 3.5.1 | B40: Tower type 1QT6+9 m | C40: each | D40: ='Schedule No. 1D'!E21 -> 3
A41: 3.6 | B41: Cross-arm Erection | C41: ='Schedule No. 1C'!D72 -> per set of three | D41: ='Schedule No. 1D'!E23 -> 4 | I41: =SUM(D31:D40) -> 9
A42: 3.7 | B42: Dismantling and By-Pass line Construction
A43: 3.7.1 | B43: Dismantling of existing line section (including tower, conductor, insulator and other accessories) whichever is required for line in/out, storing the dismantled materials at PGCB store (anywhere in Bangladesh) | C43: per span | D43: 1
...

Sheet Schedule No. 5. Grand Summary
A1: Design, Supply, Installation, Testing & Commissioning of 230 kV and 132 kV Transmission Lines for Southern Area of Chattogram Division & Bangabandhu Hi-Tech City at Kaliakoir on Turnkey Basis (Contract No.PGCB/AIIB/000308-BGD/TL/Package-2)
A3: Schedule No. 5 Grand Summary
A4: Item | B4: Description | C4: Total Price1
C6: Local Currency Portion [BDT] | D6: Foreign Currency Portion [xxx]
B7: A. Anwara-Cox's Bazar (North) 230 kV double circuit transmission line (Initially charged at 132 kV): 109 km with 0.49 km river crossing portion (using twin ACSR mallard Conductor)
B8: Schedule No. A1.1 Plant and Mandatory Spare Parts Supplied from Abroad
B9: Schedule No. A1.2 Plant and Mandatory Spare Parts Supplied from Within the Employer's Country
B10: Schedule No. A1.4 Installation and Other Services
B11: Sub-Total
B12: B. Bangabandhu Hi-Tech City-Kaliakoir 230 kV double circuit transmission line: 4.88 km (using Twin ACSR Mallard conductor)
B13: Schedule No. B2.1 Plant and Mandatory Spare Parts Supplied from Abroad
B14: Schedule No. B2.2 Plant and Mandatory Spare Parts Supplied from Within the Employer's Country
B15: Schedule No. B2.4 Installation and Other Services
B16: Sub-Total
B17: C. Cox's Bazar (North)-Teknaf 132 kV double circuit transmission line: 65 km (using Single ACSR Grosbeak Conductor)
B18: Schedule No. C3.1 Plant and Mandatory Spare Parts Supplied from Abroad
... B26: Sub-Total
A27: 3 | B27: Schedule No. 3 Design Services (A+B+C+D)
B28: GRAND TOTAL
C30: Name of Bidder
C32: Signature of Bidder
A34: 1. Specify currencies in accordance with ITB 19.1 of the BDS. Create additional columns for up to a maximum of three foreign currencies, if so required.
A35: 2. Taxes and/or duties from Schedule 1 and 2 may be added to the contract price in accordance with GCC 14 (Taxes and Duties) but excluded from bid evaluation in accordance with ITB 39.2" 3. All sections, considered here is for one single project. If an item (alongwith unit price) is not available in a section but available in another section of this contract; during execution, if such item (alongwith unit price) is needed to be used in the section where the item is not available then such item (alongwith unit price) can be used in the section where it in not available. If the same exists in more than one item lowest unit price among them will be considered.

Sheet Schedule No. 6
A1: Design, Supply, Installation, Testing & Commissioning of 230 kV and 132 kV Transmission Lines for Southern Area of Chattogram Division & Bangabandhu Hi-Tech City at Kaliakoir on Turnkey Basis (Contract No. PGCB/AIIB/000308-BGD/TL/Package-2)
A3: Schedule No. 6. Recommended Spare Parts
A4: Item | B4: Description | C4: Unit | D4: Quantity | E4: Unit Price1 | G4: Total Price1
E7: Local Currency Portion [BDT] | F7: Foreign Currency Portion [xxxxx] | G7: Local Currency Portion [BDT] | H7: Foreign Currency Portion [xxx]
A8: 1 | B8: 2 | C8: 3 | D8: 4 | E8: 5 | F8: 6 | G8: 7 = 4 x 5 | H8: 8 = 4 x 6
G21: Name of Bidder
G23: Signature of Bidder
A26: 1. Specify currencies in accordance with ITB 19.1 of the BDS. Create additional columns for up to a maximum of three foreign currencies, if so required.
