Workbook

Sheet Schedule No. 1B
A1: Power Transmission Strengthening and Integration of Renewable Energy Project (PTSIREP), Package-1
A2: B | B2: LILO of Anowara-Coxs Bazar 230kV double circuit Line at Matarbari 400/230/132kV Substation (Pekua)
A3: Item | B3: Description | C3: Country of origin | D3: Unit | E3: Quantity | F3: Unit Price1 | G3: Total Price1
F5: Foreign Currency CIP [] | G5: Foreign Currency CIP []
A6: 1 | B6: 2 | C6: 3 | D6: 4 | E6: 5 | F6: 6 | G6: 7= 5 x 6
A7: Schedule No. 1B Plant and Mandatory Spare Parts Supplied from Abroad
A8: Supply of 230 kV double and four circuit towers, complete with all stubs, nuts, bolts, locking nuts, washers, swivels/shackles, step bolts, tower notice and identification plates, ACDs, protective coating(Galvanizing) etc.
A9: 1 | B9: Overland Portion
A10: 1.1 | B10: Tower type "2DT6" | I10: 4 | J10: Terninal Tower | K10: 4
A11: 1.1.1 | B11: Tower type 2DT6+6 m | D11: each | E11: 0 | J11: 2Q30+2QT6 | K11: =H22+H25 -> 3 | L11: 2
A12: 1.1.2 | B12: Tower type 2DT6+9m | D12: each | E12: 0 | J12: River crossing | K12: 4
A13: 1.2 | B13: Tower type "2QL" | H13: =SUM(E11:E12) -> 0
A14: 1.2.1 | B14: Tower type 2QL +0m | D14: each | E14: 0
A15: 1.2.2 | B15: Tower type 2QL +1.5 m | D15: each | E15: 0
A16: 1.2.3 | B16: Tower type 2QL +3 m | D16: each | E16: 0
A17: 1.2.4 | B17: Tower type 2QL +4.5 m | D17: each | E17: 0
A18: 1.2.5 | B18: Tower type 2QL +6 m | D18: each | E18: 1
A19: 1.2.6 | B19: Tower type 2QL +9 m | D19: each | E19: 0 | H19: =SUM(E14:E19) -> 1
A20: 1.3 | B20: Tower type "2Q30"
A21: 1.3.1 | B21: Tower type 2Q30+ 9 m | D21: each | E21: 0 | H21: =E21 -> 0
A22: 1.4 | B22: Tower type "2QT6"
A23: 1.4.1 | B23: Tower type 2QT6+ 3 m | D23: each | E23: 0
A24: 1.4.2 | B24: Tower type 2QT6+ 6 m | D24: each | E24: 1
A25: 1.4.3 | B25: Tower type 2QT6+ 9 m | D25: each | E25: 2 | H25: =SUM(E23:E25) -> 3
A26: 1.5 | B26: Auxiliary crossarm for tower type 2DT6 | D26: per set of three | E26: 1
A27: 1.6 | B27: Auxiliary crossarm for tower type 2QT6 | D27: per set of three | E27: 4 | H27: =SUM(H13:H25) -> 4 | J27: span | K27: AVR
A28: 2 | B28: Phase conductor, earthwire and OPGW cable, complete with repair sleeves and joints | L28: =#REF! -> #REF!
A29: 2.1 | B29: Overland Portion
A30: 2.1.1 | B30: "ACSR Mallard" Phase Conductor (3 Phase, Four Circuit, Twin Bundle per phase on the line) | D30: Route km2 | E30: 0.8 | J30: =E30/164.6 -> 0.0048602673 | L30: =#REF! -> #REF!
A31: 2.1.2 | B31: 7x4.00mm equivalent OPGW inclusive of joint boxes, fixing clamps, fusion splices and connections to the joint boxes. Two OPGW earthwire on the line. | D31: Route km2 | E31: 0.8
A32: 3 | B32: Insulator strings, with associated suspension and tension clamps for twin ACSR Mallard Conductor
A33: 3.1 | B33: Overland Portion
A34: 3.1.1 | B34: a) Single suspension string , 120 kN -disc only | D34: Set | E34: 12
B35: b) Single suspension string , 120 kN -fittings only | D35: Set | E35: 12 | L35: two strings for each crossarm + 12 nos. for 2 anchor
A36: 3.1.2 | B36: a) Double tension string, 2x210kN -disc only | D36: Set | E36: 60
B37: b) Double tension string, 2x210kN -fittings only | D37: Set | E37: 60
A38: 3.1.3 | B38: a) Single jumper suspension I-string, having each string 1x120 kN-disc only | D38: Set | E38: 33 | K38: 1to compansate fraction
B39: b) Single jumper suspension I-string, having each string 1x120 kN-fittings only | D39: Set | E39: 33
A40: 3.1.4 | B40: a) Single tension string, upright low duty 120kN- disc only | D40: Set | E40: 12 | J40: Terminal tower=4
B41: b) Single tension string, upright low duty 120kN- fittings only | D41: Set | E41: 12 | J41: Terminal tower=4
A42: 3.1.5 | B42: a) Single tension string, inverted low duty 120kN -discs only | D42: Set | E42: 12 | J42: Terminal tower=4
B43: b) Single tension string, inverted low duty 120kN -fittings only | D43: Set | E43: 12 | J43: Terminal tower=4
B44: OPGW sets, complete with all accessories, incl. armour rods and earth bounds
A45: 3.1.6 | B45: Suspension set (including all fittings and accessories for surplus and to guide the OPGW to the joint box) | D45: set | E45: 2
A46: 3.1.7 | B46: Tension set (including all fittings and accessories for surplus and to guide the OPGW to the joint box) | D46: set | E46: 14
B47: Dampers
A48: 3.1.8 | B48: Vibration damper for phase conductor | D48: per span | E48: 6
A49: 3.1.9 | B49: Spacer damper for phase conductor | D49: per span | E49: 6
A50: 3.1.10 | B50: Vibration damper for OPGW | D50: per span | E50: 6
A51: 3.1.11 | B51: Spacer for jumper | D51: nos. | E51: 90
A52: 4 | B52: Aerial Markers
A53: 4.1 | B53: Painting of tower having height more than 60 meter in accordance with the requirements of the Technical Specification | D53: per tower | E53: 4
A54: 4.1A | B54: Coal tar epoxy coatings on all tower steelwork up to 3.0m/HFL whichever is greater from ground level in accordance with the requirements of the Technical Specification | D54: per tower | E54: 4
A55: 4.2 | B55: Painting of tower (Reflecting Paint) upto 3 meter in submerge area in accordance with the requirements of the Technical Specification | D55: per tower | E55: 1
A56: 4.3 | B56: Air craft obstruction lights solar powered complete with lamps, solar, panels, batteries, control equipment cables, support framework, tower work platform etc. | D56: Per Tower | E56: 4
A57: 4.4 | B57: Aircraft warning spheres | D57: each | E57: 24
A58: 4.5 | B58: Bird diverters | D58: each | E58: 18
A59: 4.6 | B59: Bird guards, one bird guard per each crossarm applied on intermediate towers | D59: each | E59: 12
A60: 4.7 | B60: Tower Earthing
A61: a | B61: Type A | D61: Per Tower | E61: 2
A62: b | B62: Type B | D62: Per Tower | E62: 1
A63: c | B63: Type C | D63: Per Tower | E63: 1
A64: d | B64: Type D (If required) | D64: Per Tower | E64: 0
A65: 5 | B65: Mandatory Spare Parts and Tools | L65: =#REF!-J65/1000 -> #REF!
A66: 5.1 | B66: Insulator and Fittings
B67: Insulator sets complete with insulators and all hardware fittings including suspension clamps, tension dead ends,armour rods, arcing horn. Arcing ring etc
B68: Overland Portion
A69: 5.1.1 | B69: 120kN single suspension Insulators set for "twin ACSR Mallard" - Complete Assembly | D69: set | E69: 5
A70: 5.1.2 | B70: 120kN jumper suspension set for "Twin ACSR Mallard" - Complete Assembly | D70: set | E70: 5
A71: 5.1.3 | B71: 210kN twin tension set for "Twin ACSR Mallard" - Complete Assembly | D71: set | E71: 6
A72: 5.2 | B72: Phase conductor, earthwire, OPGW & Fittings
A73: 5.2.1 | B73: Conductor "ACSR Mallard" type | D73: km | E73: 1
A74: 5.2.2 | B74: Midspan Joint for "ACSR Mallard" conductor | D74: each | E74: 5
A75: 5.2.3 | B75: Repair sleeve for "ACSR Mallard" conductor | D75: each | E75: 5
A76: 5.2.4 | B76: Vibration Damper for ACSR Mallard Conductor | D76: each | E76: 15
A77: 5.2.5 | B77: Spacer Damper for Twin Bundle "ACSR Mallard" | D77: each | E77: 5
A78: 5.2.6 | B78: Jumper Spacer for Twin Bundle "ACSR Mallard" | D78: each | E78: 10
A79: 5.2.7 | B79: Suspension set for 7x4.00mm Equivalent OPGW | D79: each | E79: 5
A80: 5.2.8 | B80: Tension set for 7x4.00mm Equivalent OPGW | D80: each | E80: 8
A81: 5.2.9 | B81: Vibration damper for 7x4.00mm Equivalent OPGW | D81: each | E81: 3
A82: 5.3 | B82: Temporary earthing equipment | D82: each | E82: 1
A83: 5.4 | B83: Elcometer | D83: each | E83: 0
A84: 5.5 | B84: Motorised jointing compressor for conductor complete with dies suitable for conductors to be used for this Contract | D84: each | E84: 0
A85: Total Columns 7 to be carried forward to Schedule No. 5 - Grand Summary | G85: =SUM(G10:G84) -> 0
F88: Name of Bidder
F90: Signature of Bidder
A91: 1. Specify currency in accordance with specifications in Bid Data Sheet under ITB 19.1 in Single-stage Bid. Create and use as many columns for Unit Price and Total Price as there are currencies.
A92: 2. Definition of route km: Route km is the transmission line distance between two terminal points in plan view. Route km is exclusive sag and other electrical clearances, elevation differences etc. The Contractor shall incorporate all such extra costs in his unit rate.

Sheet Schedule No. 2B
A1: ='Schedule No. 1B'!A1:G1 -> Power Transmission Strengthening and Integration of Renewable Energy Project (PTSIREP), Package-1
A2: ='Schedule No. 1B'!A2 -> B | B2: ='Schedule No. 1B'!B2:G2 -> LILO of Anowara-Coxs Bazar 230kV double circuit Line at Matarbari 400/230/132kV Substation (Pekua)
A3: Item | B3: Description | C3: Unit | D3: Quantity | E3: Unit Price1 | G3: Total Price1
E5: Local Currency EXW [BDT] | F5: Foreign Currency EXW [ ] | G5: Local Currency EXW [BDT] | H5: Foreign Currency EXW [ ]
A6: 1 | B6: 2 | C6: 3 | D6: 4 | E6: 5 | F6: 6 | G6: 7=4*5 | H6: 8=4*6
A7: Schedule No. 2B Plant and Mandatory Spare Parts Supplied from Within the Employer's Country
A8: Supply of 230 kV double and four circuit towers, complete with all stubs, nuts, bolts, locking nuts, washers, swivels/shackles, step bolts, tower notice and identification plates, ACDs, protective coating(Galvanizing) etc.
A9: 1 | B9: Overland Portion
A10: 1.1 | B10: Tower type "2DT6" | I10: Terninal Tower | J10: 4
A11: 1.1.1 | B11: Tower type 2DT6+6 m | C11: each | D11: 0 | I11: 2Q30+2QT6 | J11: =G17+G19 -> 0 | K11: 2
A12: 1.1.2 | B12: Tower type 2DT6+9m | C12: each | D12: 0 | I12: River crossing | J12: 4
A13: 1.2 | B13: Tower type "2QL"
A14: 1.2.1 | B14: Tower type 2QL +0m | C14: each | D14: 0
A15: 1.2.2 | B15: Tower type 2QL +1.5 m | C15: each | D15: 0
A16: 1.2.3 | B16: Tower type 2QL +3 m | C16: each | D16: 0
A17: 1.2.4 | B17: Tower type 2QL +4.5 m | C17: each | D17: 0
A18: 1.2.5 | B18: Tower type 2QL +6 m | C18: each | D18: 1
A19: 1.2.6 | B19: Tower type 2QL +9 m | C19: each | D19: 0
A20: 1.3 | B20: Tower type "2Q30" | I20: span | J20: AVR
A21: 1.3.1 | B21: Tower type 2Q30+ 9 m | C21: each | D21: 0 | K21: =#REF! -> #REF!
A22: 1.4 | B22: Tower type "2QT6"
A23: 1.4.1 | B23: Tower type 2QT6+ 3 m | C23: each | D23: 0 | I23: =D23/164.6 -> 0 | K23: =#REF! -> #REF!
A24: 1.4.2 | B24: Tower type 2QT6+ 6 m | C24: each | D24: 1
A25: 1.4.3 | B25: Tower type 2QT6+ 9 m | C25: each | D25: 2
A26: 1.5 | B26: Auxiliary crossarm for tower type 2DT6 | C26: per set of three | D26: 1
A27: 1.6 | B27: Auxiliary crossarm for tower type 2QT6 | C27: per set of three | D27: 4
A28: 2 | B28: Phase conductor, earthwire and OPGW cable, complete with repair sleeves and joints
A29: 2.1 | B29: Overland Portion
A30: 2.1.1 | B30: "ACSR Mallard" Phase Conductor (3 Phase, Four Circuit, Twin Bundle per phase on the line) | C30: Route km2 | D30: 0.8
A31: 2.1.2 | B31: 7x4.00mm equivalent OPGW inclusive of joint boxes, fixing clamps, fusion splices and connections to the joint boxes. Two OPGW earthwire on the line. | C31: Route km2 | D31: 0.8
A32: 3 | B32: Insulator strings, with associated suspension and tension clamps for twin ACSR Mallard Conductor
A33: 3.1 | B33: Overland Portion
A34: 3.1.1 | B34: a) Single suspension string , 120 kN -disc only | C34: Set | D34: 12
B35: b) Single suspension string , 120 kN -fittings only | C35: Set | D35: 12
A36: 3.1.2 | B36: a) Double tension string, 2x210kN -disc only | C36: Set | D36: 60 | K36: two strings for each crossarm + 12 nos. for 2 anchor
B37: b) Double tension string, 2x210kN -fittings only | C37: Set | D37: 60
A38: 3.1.3 | B38: a) Single jumper suspension I-string, having each string 1x120 kN-disc only | C38: Set | D38: 33
B39: b) Single jumper suspension I-string, having each string 1x120 kN-fittings only | C39: Set | D39: 33 | J39: 1to compansate fraction
A40: 3.1.4 | B40: a) Single tension string, upright low duty 120kN- disc only | C40: Set | D40: 12
B41: b) Single tension string, upright low duty 120kN- fittings only | C41: Set | D41: 12 | I41: Terminal tower=4
A42: 3.1.5 | B42: a) Single tension string, inverted low duty 120kN -discs only | C42: Set | D42: 12 | I42: Terminal tower=4
B43: b) Single tension string, inverted low duty 120kN -fittings only | C43: Set | D43: 12 | I43: Terminal tower=4
B44: OPGW sets, complete with all accessories, incl. armour rods and earth bounds | I44: Terminal tower=4
A45: 3.1.6 | B45: Suspension set (including all fittings and accessories for surplus and to guide the OPGW to the joint box) | C45: set | D45: 2
A46: 3.1.7 | B46: Tension set (including all fittings and accessories for surplus and to guide the OPGW to the joint box) | C46: set | D46: 14
B47: Dampers
A48: 3.1.8 | B48: Vibration damper for phase conductor | C48: per span | D48: 6
A49: 3.1.9 | B49: Spacer damper for phase conductor | C49: per span | D49: 6
A50: 3.1.10 | B50: Vibration damper for OPGW | C50: per span | D50: 6
A51: 3.1.11 | B51: Spacer for jumper | C51: nos. | D51: 90
A52: 4 | B52: Aerial Markers
A53: 4.1 | B53: Painting of tower having height more than 60 meter in accordance with the requirements of the Technical Specification | C53: per tower | D53: 4
A54: 4.1A | B54: Coal tar epoxy coatings on all tower steelwork up to 3.0m/HFL whichever is greater from ground level in accordance with the requirements of the Technical Specification | C54: per tower | D54: 4
A55: 4.2 | B55: Painting of tower (Reflecting Paint) upto 3 meter in submerge area in accordance with the requirements of the Technical Specification | C55: per tower | D55: 1
A56: 4.3 | B56: Air craft obstruction lights solar powered complete with lamps, solar, panels, batteries, control equipment cables, support framework, tower work platform etc. | C56: Per Tower | D56: 4
A57: 4.4 | B57: Aircraft warning spheres | C57: each | D57: 24
A58: 4.5 | B58: Bird diverters | C58: each | D58: 18
A59: 4.6 | B59: Bird guards, one bird guard per each crossarm applied on intermediate towers | C59: each | D59: 12
A60: 4.7 | B60: Tower Earthing
A61: a | B61: Type A | C61: Per Tower | D61: 2 | K61: =#REF!-I61/1000 -> #REF!
A62: b | B62: Type B | C62: Per Tower | D62: 1 | K62: =I61/1000 -> 0
A63: c | B63: Type C | C63: Per Tower | D63: 1
A64: d | B64: Type D (If required) | C64: Per Tower | D64: 0
A65: 5 | B65: Mandatory Spare Parts and Tools
A66: 5.1 | B66: Insulator and Fittings
B67: Insulator sets complete with insulators and all hardware fittings including suspension clamps, tension dead ends,armour rods, arcing horn. Arcing ring etc
B68: Overland Portion
A69: 5.1.1 | B69: 120kN single suspension Insulators set for "twin ACSR Mallard" - Complete Assembly | C69: set | D69: 5
A70: 5.1.2 | B70: 120kN jumper suspension set for "Twin ACSR Mallard" - Complete Assembly | C70: set | D70: 5
A71: 5.1.3 | B71: 210kN twin tension set for "Twin ACSR Mallard" - Complete Assembly | C71: set | D71: 6
A72: 5.2 | B72: Phase conductor, earthwire, OPGW & Fittings
A73: 5.2.1 | B73: Conductor "ACSR Mallard" type | C73: km | D73: 1
A74: 5.2.2 | B74: Midspan Joint for "ACSR Mallard" conductor | C74: each | D74: 5
A75: 5.2.3 | B75: Repair sleeve for "ACSR Mallard" conductor | C75: each | D75: 5
A76: 5.2.4 | B76: Vibration Damper for ACSR Mallard Conductor | C76: each | D76: 15
A77: 5.2.5 | B77: Spacer Damper for Twin Bundle "ACSR Mallard" | C77: each | D77: 5
A78: 5.2.6 | B78: Jumper Spacer for Twin Bundle "ACSR Mallard" | C78: each | D78: 10
A79: 5.2.7 | B79: Suspension set for 7x4.00mm Equivalent OPGW | C79: each | D79: 5
A80: 5.2.8 | B80: Tension set for 7x4.00mm Equivalent OPGW | C80: each | D80: 8
A81: 5.2.9 | B81: Vibration damper for 7x4.00mm Equivalent OPGW | C81: each | D81: 3
A82: 5.3 | B82: Temporary earthing equipment | C82: each | D82: 1
A83: 5.4 | B83: Elcometer | C83: each | D83: 0
A84: 5.5 | B84: Motorised jointing compressor for conductor complete with dies suitable for conductors to be used for this Contract | C84: each | D84: 0
A85: Total Columns 7 and 8 be carried forward to Schedule No. 5 - Grand Summary | F85: 0
E88: Name of Bidder
E90: Signature of Bidder
A92: 1. Specify currency in accordance with specifications in Bid Data Sheet under ITB 19.1 in Single-stage Bid. Create and use as many columns for Unit Price and Total Price as there are currencies.
A93: 2. Definition of route km: Route km is the transmission line distance between two terminal points in plan view. Route km is exclusive sag and other electrical clearances, elevation differences etc. The Contractor shall incorporate all such extra costs in his unit rate.

Sheet Schedule No. 3B
A1: ='Schedule No. 1B'!A1:G1 -> Power Transmission Strengthening and Integration of Renewable Energy Project (PTSIREP), Package-1
A3: ='Schedule No. 1B'!A2 -> B | B3: ='Schedule No. 1B'!B2:G2 -> LILO of Anowara-Coxs Bazar 230kV double circuit Line at Matarbari 400/230/132kV Substation (Pekua)
A4: Item | B4: Description | C4: Unit | D4: Quantity | E4: Unit Price1 | G4: Total Price1
E6: Local Currency [BDT] | F6: Foreign Currency [] | G6: Local Currency [BDT] | H6: Foreign Currency []
A7: 1 | B7: 2 | C7: 3 | D7: 4 | E7: 5 | F7: 6 | G7: 7 = 4 x 5 | H7: 8 = 4 x 6
A8: Schedule No. 3B Design Services
A9: 1 | B9: Line Design
A10: 1.1 | B10: Detailed line design including plan and profiles; conductor, earthwire and OPGW sag tension calculations; tower spotting, establishment of line schedule; Design of insulator strings, OPGW and earthwire attachments | C10: Lump sum | D10: 1
A12: 2 | B12: Tower Test
A13: 2.1 | B13: Proto assembly of all type towers with all extensions to prove compliance with specification. Payment for successful test only.
A14: 2.1.1 | B14: 2DT6 | C14: each | D14: 0
A15: 2.1.2 | B15: 2QL | C15: each | D15: 1
A16: 2.1.3 | B16: 2Q30 | C16: each | D16: 0
A17: 2.1.4 | B17: 2QT6 | C17: each | D17: 1
A18: 3 | B18: Foundation Design
A19: 3.1 | B19: Foundation design for all soil types | C19: Lump sum | D19: 1
A20: Total Columns 7 & 8 to be carried forward to Schedule No. 5 - Grand Summary | G20: =SUM(G10:G19) -> 0 | H20: =SUM(H10:H19) -> 0
F23: Name of Bidder
F25: Signature of Bidder
A27: 1. Specify currency in accordance with specifications in Bid Data Sheet under ITB 19.1 in Single-stage Bid. Create and use as many columns for Unit Price and Total Price as there are currencies.

Sheet Schedule No. 4B
A1: ='Schedule No. 1B'!A1:G1 -> Power Transmission Strengthening and Integration of Renewable Energy Project (PTSIREP), Package-1
A3: ='Schedule No. 1B'!A2 -> B | B3: ='Schedule No. 1B'!B2:G2 -> LILO of Anowara-Coxs Bazar 230kV double circuit Line at Matarbari 400/230/132kV Substation (Pekua)
A4: Item | B4: Description | C4: Unit | D4: Quantity | E4: Unit Price1 | G4: Total Price1
E6: Local Currency [BDT] | F6: Foreign Currency [] | G6: Local Currency [BDT] | H6: Foreign Currency []
A7: 1 | B7: 2 | C7: 3 | D7: 4 | E7: 5 | F7: 6 | G7: 7 = 4 x 5 | H7: 8 = 4 x 6
A8: Schedule No. 4B Installation and Other Services
A9: 1 | B9: Survey and soil investigation works
A10: 1.1 | B10: Survey Work
A11: 1.1.1 | B11: Check survey in accordance with the requirements of the technical specification, incl. Full ground survey with change of route, if any, tower plotting and preparation and submission of route maps, submission of tower footing area on mouza maps for each tower location, profile drawings, SIMM documents, etc. | C11: Km | D11: 0.8
A13: 1.2 | B13: Geotechnical Investigations incl. taking samples, logging and lab testing
A14: 1.2.1 | B14: Boreholes for geotechnical investigation, incl. laboratory test, borehole logs, sampling and interpretive report as per geotechnical specification
A15: (a) | B15: Level 2 | C15: borehole | D15: 1
A16: (b) | B16: Level 4 | C16: borehole | D16: 1
A17: 1.2.2 | B17: Soil resistivity tests (one per tower) | C17: unit | D17: 4
A18: 2 | B18: Foundations for towers including all setting out, Concrete, Reinforcement, Excavation, Pumping, Stub-Setting, Geotechnical Investigation (Level 2), Shuttering, Leveling, Timbering, supply & Installation of foundation steelwork, Earthing Materials,Backfilling, approved Protective Coating & site clearing etc.
A19: 2.1 | B19: Tower type "2DT6"
A20: 2.1.1 | B20: Pile Foundation for Any Soil Category with 2m Raised Chimney | C20: per tower | D20: 0
A21: 2.2 | B21: Tower type "2QL"
A22: 2.2.1 | B22: Pile Foundation for Any Soil Category with 2m Raised Chimney | C22: per tower | D22: 1
A23: 2.3 | B23: Tower type "2Q30"
A24: 2.3.1 | B24: Pile Foundation for Any Soil Category with 2m Raised Chimney | C24: per tower | D24: 0
A25: 2.4 | B25: Tower type "2QT6"
A26: 2.4.1 | B26: Pile Foundation for Soil Category-2 with 2m Raised Chimney | C26: per tower | D26: 1
A27: 2.4.2 | B27: Pile Foundation for Soil Category-3 with 2m Raised Chimney | C27: per tower | D27: 1
A28: 2.4.3 | B28: Pile Foundation for Soil Category-4 with 2m Raised Chimney | C28: per tower | D28: 1
A29: 3 | B29: Erection of 230kV double circuit & four circuit towers complete with all stubs, nuts, bolts, locking nuts, washers, phase conductor and earthwire swivels/shackles, step bolts, tower notice and identification plates, ACDs, ptotective coating(Galvanaizing), earthing etc. | I29: =SUM(I19:I28) -> 0
A30: 3.1 | B30: Tower type "2DT6"
A31: 3.1.1 | B31: Tower type 2DT6+6 m | C31: ='[1]Schedule No. 1A'!D45 -> each | D31: 0
A32: 3.1.2 | B32: Tower type 2DT6+9 m | C32: ='[1]Schedule No. 1A'!D47 -> each | D32: 0 | I32: =SUM(D31:D32) -> 0
A33: 3.2 | B33: Tower type "2QL"
A34: 3.2.1 | B34: Tower type 2QL +0m | C34: each | D34: 0
A35: 3.2.2 | B35: Tower type 2QL +1.5 m | C35: each | D35: 0
A36: 3.2.3 | B36: Tower type 2QL +3 m | C36: each | D36: 0
A37: 3.2.4 | B37: Tower type 2QL +4.5 m | C37: each | D37: 0
A38: 3.2.5 | B38: Tower type 2QL +6 m | C38: each | D38: 1
A39: 3.2.6 | B39: Tower type 2QL +9 m | C39: ='[1]Schedule No. 1A'!D71 -> each | D39: 0
A40: 3.3 | B40: Tower type "2Q30"
A41: 3.3.1 | B41: Tower type 2Q30+ 9 m | C41: each | D41: 0
A42: 3.4 | B42: Tower type "2QT6"
A43: 3.3.1 | B43: Tower type 2QT6+ 3 m | C43: ='[1]Schedule No. 1A'!D87 -> each | D43: 0
A44: 3.3.2 | B44: Tower type 2QT6+ 6 m | C44: ='[1]Schedule No. 1A'!D88 -> each | D44: 1
A45: 3.3.3 | B45: Tower type 2QT6+ 9 m | C45: ='[1]Schedule No. 1A'!D88 -> each | D45: 2 | I45: =SUM(D43:D45) -> 3
A46: 3.5 | B46: Auxiliary Crossarm for tower
A47: 3.5.1 | B47: Auxiliary crossarm for tower type 2DT6 | C47: per set of three | D47: 1
A48: 3.5.2 | B48: Auxiliary crossarm for tower type 2QT6 | C48: per set of three | D48: 4
A49: 4 | B49: Testing of Foundations
A50: 4.1 | B50: Individual Pile test including supply,install and test to prove compliance with technical specification, payment for successful test only (applicable for all tower types selected by the Employer's Engineer):
A51: (a) | B51: Compression/Uplift test | C51: per test | D51: 1
A52: (b) | B52: Pile Integrity test | C52: per test | D52: 16 | J52: =6*4 -> 24
A53: 4A | B53: Tower Paint
A54: (a) | B54: Coal tar epoxy coatings on all tower steelwork up to 3.0m/HFL whichever is greater from ground level in accordance with the requirements of the Technical Specification | C54: per tower | D54: 4
A55: (b) | B55: Painting of tower having total height above GL exceeds 60m for aircraft navigation in accordance with the requirements of the Technical Specification | C55: per tower | D55: 4
A56: (c) | B56: Painting of tower (Reflecting Paint) upto 3 meter above epoxy coat in submerge area in accordance with the requirements of the Technical Specification | C56: per tower | D56: 1
A57: 5 | B57: Stringing of double/four circuit line, two conductors per phase and 2(two) OPGW (length approx. Route km)
A58: 5.1 | B58: Conductor "ACSR Mallard" Phase Conductor (3 Phase, Four Circuit, Twin Bundle per phase on the line)" Installation of insulator strings, compressed dead-ends, compression junction sleeves, suspension clamps, Sagging and clipping, Installation of armour rods and Dampers, Pilot strings and jumpers and any other works required as per specification. | C58: route km | D58: 0.8
A59: 5.2 | B59: 7x4.00mm equivalent , 48 fibres OPGW, including joint box, Tension and semi-tension joints, suspension clamps, armour rods and dampers,Sagging and clipping, Installation of intermediate junction boxes and terminal junction boxes at substation gantries ,Earthing jumpers. Two OPGW earthwire on the line. | C59: route km | D59: 0.8
A60: 6 | B60: Documentation
A61: 6.1 | B61: Establishment of as-built drawings, manuals and all requested documents as per specifications | C61: lump sum | D61: 1
A62: 7 | B62: Miscellaneous
A63: 7.1 | B63: Transport of the material and equipment supplied from Employer's Country | C63: lump sum | D63: 1
A64: 7.2 | B64: Insurance of material and equipment supplied from Employer's Country during transport | C64: lump sum | D64: 1
A65: 7.3 | B65: Additional counterpoise earthing in accordance with requirement of the Technical specification | C65: per meter | D65: 5
A66: 7.4 | B66: Miscellaneous Rates for works certified by the Engineer in accordance with method of Payment
A67: (a) | B67: Additional Excavation | C67: cu.m | D67: 50
A68: (b) | B68: Additional Concrete | C68: cu.m | D68: 50
A69: (c) | B69: Additional Reinforcement | C69: kg | D69: 500
A70: (d) | B70: Extra for surface resisting cement per cu.m of concrete | C70: cu.m | D70: 50
A71: (e) | B71: Additional Boring (for any diameter) | C71: rm | D71: 50
A72: (f) | B72: Sand Filling | C72: cu.m | D72: 50
A73: 7.5 | B73: ''Environmental Management & Monitoring Plan Implementation including Environmental Parameter Testing (as per EMP i.e., Monthly/ Quarterly) and Ecological study" in lieu of "Environmental Management and Monitoring Plan including Ecological study'' | C73: lump sum | D73: 1
A74: 7.6 | B74: STI. STD and HIV/AIDS alleviation program | C74: lump sum | D74: 1
A75: 7.7 | B75: Payment for Compensation(For resettlement of affected people, dwelling/commercial structures, trees, crops etc. on the Right of Way) | C75: lump sum | D75: 1 | H75: 0
A76: 8 | B76: Dismantling & Bypass
A77: 8.1 | B77: Dismantling of existing line section (including tower, conductor, insulator and other accessories) whichever is required for line in/out, storing the dismantled materials at PGCB store | C77: per span | D77: 2
A78: 8.2 | B78: By passing the required line section with Tower/Pole/ERS. Tower/Pole/ERS for by passing shall be collected from PGCB store | C78: per span | D78: 2
A79: 8.3 | B79: Dismantling of by pass line after completing line in line out and storing the Tower/Pole/ERS of by pass line as PGCB store | C79: per span | D79: 2
A80: Total Columns 7 & 8 to be carried forward to Schedule No. 5 - Grand Summary | G80: =SUM(G11:G75) -> 0
F83: Name of Bidder
F85: Signature of Bidder
A87: 1. Specify currency in accordance with specifications in Bid Data Sheet under ITB 19.1 in Single-stage Bid. Create and use as many columns for Unit Price and Total Price as there are currencies.
