Workbook

Sheet Schedule No. 1C
A3: C | B3: LILO of Matarbari-Chakaria 132kV Line at Matarbari 400/230/132kV SS (Pekua)
A4: Item | B4: Description | C4: Country of origin | D4: Unit | E4: Quantity | F4: Unit Price1 | G4: Total Price1
F6: Foreign Currency CIP [] | G6: Foreign Currency CIP []
A7: 1 | B7: 2 | C7: 3 | D7: 4 | E7: 5 | F7: 6 | G7: 7= 5 x 6
A8: Schedule No. 1C Plant and Mandatory Spare Parts Supplied from Abroad
A9: 1 | B9: Supply of 132 kV Double circuit towers, complete with all stubs, nuts, bolts, locking nuts, washers, swivels/shackles, step bolts, tower notice and identification plates, ACDs, protective coating(Galvanazing) etc.
A10: 1.1 | B10: Tower Type 1DT6
A11: 1.1.1 | B11: Tower Type 1DT6+6.0 m | D11: each | E11: 1
A12: 1.1.2 | B12: Tower Type 1DT6+9.0 m | D12: each | E12: 1 | H12: =SUM(E11:E12) -> 2
A13: 2 | B13: Supply of 132 kV Four circuit towers, complete with all stubs, nuts, bolts, locking nuts, washers, phase conductors and earthwire, swivels/shackles, step bolts, tower notice and identification plates, ACDs, protective coating(Galvanizing), etc.
A14: 2.1 | B14: Tower Type 1QL
A15: 2.1.1 | B15: Tower Type 1QL+6.0 m | D15: each | E15: 1
A16: 2.1.2 | B16: Tower Type 1QL+9.0 m | D16: each | E16: 1
A17: 2.3 | B17: Tower Type 1Q30 | H17: =SUM(#REF!) -> #REF!
A18: 2.3.1 | B18: Tower type 1Q30 +9.0 m | D18: each | E18: 1
A19: 2.4 | B19: Tower Type 1QT6 | H19: =SUM(E18:E18) -> 1
A20: 2.4.1 | B20: Tower Type 1QT6+6.0 m | D20: each | E20: 1
A21: 2.4.2 | B21: Tower Type 1QT6+9.0 m | D21: each | E21: 1
A22: 2.5 | B22: Auxiliary Crossarm for tower | H22: =SUM(E20:E21) -> 2
A23: 2.5.1 | B23: Auxiliary Crossarm for Tower Type 1QT6 | D23: per set of three | E23: 2 | H23: =SUM(H12:H22) -> #REF!
A24: 2.5.2 | B24: Auxiliary Crossarm for Tower Type 1DT6 | D24: per set of three | E24: 2
A25: 3 | B25: Tower Earthing
A26: 3.1 | B26: Type A | D26: Per Tower | E26: 4
A27: 3.2 | B27: Type B | D27: Per Tower | E27: 2
A28: 3.3 | B28: Type C | D28: Per Tower | E28: 1
A29: 3.4 | B29: Type D (if required) | D29: Per Tower | E29: 0
A30: 4 | B30: Phase conductor, OPGW cable, complete with repair sleeves and joints
A31: 4.1 | B31: "Single ACSR Grosbeak" (four circuit line, all circuits erected, one conductors per phase) | D31: Route km2 | E31: 1
A32: 4.2 | B32: Two optical fibre ground wire, 48 fibres 7×3.25 steel earthwire equivalent OPGW, including joint box | D32: Route km2 | E32: 1
A33: 5 | B33: Insulator strings, with associated suspension and tension clamps for single "ACSR Grosbeak" Conductor
A34: 5.1 | B34: a) 70kN suspension Insulators set for single "ACSR Grosbeak" Conductor (Suspension) - disc only | D34: Set | E34: 24
B35: b) 70kN suspension Insulators set for single "ACSR Grosbeak" Conductor (Suspension) - hardware fittings only | D35: Set | E35: =E34 -> 24
A36: 5.2 | B36: a) 120kN tension Insulators Set for single "ACSR Grosbeak'' Conductor - disc only | D36: Set | E36: 84
B37: b) 120kN tension Insulators Set for single "ACSR Grosbeak'' Conductor - hardware fittings only | D37: Set | E37: 84
A38: 5.3 | B38: a) 70kN jumper suspension Insulators Set forsingle "ACSR Grosbeak" Conductor - disc only | D38: Set | E38: 42
B39: b) 70kN jumper suspension Insulators Set forsingle "ACSR Grosbeak" Conductor - hardware fittings only | D39: Set | E39: 42
A40: 5.4 | B40: a) 70kN single upright low duty Insulators Set for single "ACSR Grosbeak" Conductor - disc only | D40: Set | E40: 12
B41: b) 70kN single upright low duty Insulators Set for single "ACSR Grosbeak" Conductor - hardware fittings only | D41: Set | E41: 12
A42: 5.5 | B42: a) 70kN single inverted low duty Insulators Set for single "ACSR Grosbeak" Conductor - disc only | D42: Set | E42: 12
B43: b) 70kN single inverted low duty Insulators Fittings Set for single "ACSR Grosbeak" Conductor - hardware fittings only | D43: Set | E43: 12
...

Sheet Schedule No. 2C
A3: ='Schedule No. 1C'!A3 -> C | B3: ='Schedule No. 1C'!B3:G3 -> LILO of Matarbari-Chakaria 132kV Line at Matarbari 400/230/132kV SS (Pekua)
A4: Item | B4: Description | C4: Unit | D4: Quantity | E4: Unit Price1 | G4: Total Price1
E6: Local Currency EXW [BDT] | F6: Foreign Currency EXW [ ] | G6: Local Currency EXW [BDT] | H6: Foreign Currency EXW [ ]
A7: 1 | B7: 2 | C7: 3 | D7: 4 | E7: 5 | F7: 6 | G7: 7=4*5 | H7: 8=4*6
A8: Schedule No. 2C Plant and Mandatory Spare Parts Supplied from Within the Employer's Country
A9: 1 | B9: Supply of 132 kV Double circuit towers, complete with all stubs, nuts, bolts, locking nuts, washers, swivels/shackles, step bolts, tower notice and identification plates, ACDs, protective coating(Galvanazing) etc.
A10: 1.1 | B10: Tower Type 1DT6
A11: 1.1.1 | B11: Tower Type 1DT6+6.0 m | C11: each | D11: 1
A12: 1.1.2 | B12: Tower Type 1DT6+9.0 m | C12: each | D12: 1
A13: 2 | B13: Supply of 132 kV Four circuit towers, complete with all stubs, nuts, bolts, locking nuts, washers, swivels/shackles, step bolts, tower notice and identification plates, ACDs, protective coating(Galvanizing), etc.
A14: 2.1 | B14: Tower Type 1QL
A15: 2.1.1 | B15: Tower Type 1QL+6.0 m | C15: each | D15: 1
A16: 2.1.2 | B16: Tower Type 1QL+9.0 m | C16: each | D16: 1
A17: 2.3 | B17: Tower Type 1Q30
A18: 2.3.1 | B18: Tower type 1Q30 +9.0 m | C18: each | D18: 1
A19: 2.4 | B19: Tower Type 1QT6
A20: 2.4.1 | B20: Tower Type 1QT6+6.0 m | C20: each | D20: 1
A21: 2.4.2 | B21: Tower Type 1QT6+9.0 m | C21: each | D21: 1
A22: 2.5 | B22: Auxiliary Crossarm for tower
A23: 2.5.1 | B23: Auxiliary Crossarm for Tower Type 1QT6 | C23: per set of three | D23: 2
A24: 2.5.2 | B24: Auxiliary Crossarm for Tower Type 1DT6 | C24: per set of three | D24: 2
A25: 3 | B25: Tower Earthing
A26: 3.1 | B26: Type A | C26: Per Tower | D26: 4
A27: 3.2 | B27: Type B | C27: Per Tower | D27: 2
A28: 3.3 | B28: Type C | C28: Per Tower | D28: 1
A29: 3.4 | B29: Type D (if required) | C29: Per Tower | D29: 0
A30: 4 | B30: Phase conductor, OPGW cable, complete with repair sleeves and joints
A31: 4.1 | B31: "Single ACSR Grosbeak" (four circuit line, all circuits erected, one conductors per phase) | C31: Route km2 | D31: 1
A32: 4.2 | B32: Two optical fibre ground wire, 48 fibres 7×3.25 steel earthwire equivalent OPGW, including joint box | C32: Route km2 | D32: 1
A33: 5 | B33: Insulator strings, with associated suspension and tension clamps for single "ACSR Grosbeak" Conductor
A34: 5.1 | B34: a) 70kN suspension Insulators set for single "ACSR Grosbeak" Conductor (Suspension) - disc only | C34: Set | D34: 24
B35: b) 70kN suspension Insulators set for single "ACSR Grosbeak" Conductor (Suspension) - hardware fittings only | C35: Set | D35: =D34 -> 24
A36: 5.2 | B36: a) 120kN tension Insulators Set for single "ACSR Grosbeak'' Conductor - disc only | C36: Set | D36: 84
B37: b) 120kN tension Insulators Set for single "ACSR Grosbeak'' Conductor - hardware fittings only | C37: Set | D37: 84
A38: 5.3 | B38: a) 70kN jumper suspension Insulators Set forsingle "ACSR Grosbeak" Conductor - disc only | C38: Set | D38: 42
B39: b) 70kN jumper suspension Insulators Set forsingle "ACSR Grosbeak" Conductor - hardware fittings only | C39: Set | D39: 42
A40: 5.4 | B40: a) 70kN single upright low duty Insulators Set for single "ACSR Grosbeak" Conductor - disc only | C40: Set | D40: 12
B41: b) 70kN single upright low duty Insulators Set for single "ACSR Grosbeak" Conductor - hardware fittings only | C41: Set | D41: 12
A42: 5.5 | B42: a) 70kN single inverted low duty Insulators Set for single "ACSR Grosbeak" Conductor - disc only | C42: Set | D42: 12
B43: b) 70kN single inverted low duty Insulators Fittings Set for single "ACSR Grosbeak" Conductor - hardware fittings only | C43: Set | D43: 12
...

Sheet Schedule No. 3C
A3: ='Schedule No. 1C'!A3 -> C | B3: ='Schedule No. 1C'!B3:G3 -> LILO of Matarbari-Chakaria 132kV Line at Matarbari 400/230/132kV SS (Pekua)
A4: Item | B4: Description | C4: Unit | D4: Quantity | E4: Unit Price1 | G4: Total Price1
E6: Local Currency [BDT] | F6: Foreign Currency [] | G6: Local Currency [BDT] | H6: Foreign Currency []
A7: 1 | B7: 2 | C7: 3 | D7: 4 | E7: 5 | F7: 6 | G7: 7 = 4 x 5 | H7: 8 = 4 x 6
A8: Schedule No. 3C Design Services
A9: 1 | B9: Line Design
A10: 1.1 | B10: Detailed line design including plan and profiles; conductor, earthwire and OPGW sag tension calculations; tower spotting, establishment of line schedule; Design of insulator strings, OPGW and earthwire attachments | C10: Lump sum | D10: 1
A12: 2 | B12: Tower Test
A13: 2.1 | B13: Proto assembly of all type towers with all extensions to prove compliance with specification. Payment for successful test only.
A14: (a) | B14: Tower type 1DT6 | C14: each | D14: 1
A15: (b) | B15: Tower type 1QL | C15: each | D15: 1
A16: (c) | B16: Tower type 1Q30 | C16: each | D16: 1
A17: (d) | B17: Tower type 1QT6 | C17: each | D17: 1
A18: 3 | B18: Foundation Design
A19: 3.1 | B19: Foundation design for all soil types | C19: Lump sum | D19: 1
A20: Total Columns 7 & 8 to be carried forward to Schedule No. 5 -Grand Summary | G20: =SUM(G10:G19) -> 0 | H20: =SUM(H10:H19) -> 0
F23: Name of Bidder
F25: Signature of Bidder
A27: 1. Specify currency in accordance with specifications in Bid Data Sheet under ITB 19.1 in Single-stage Bid. Create and use as many columns for Unit Price and Total Price as there are currencies.

Sheet Schedule No. 4C
A3: ='Schedule No. 1C'!A3 -> C | B3: ='Schedule No. 1C'!B3:G3 -> LILO of Matarbari-Chakaria 132kV Line at Matarbari 400/230/132kV SS (Pekua)
A4: Item | B4: Description | C4: Unit | D4: Quantity | E4: Unit Price1 | G4: Total Price1
E6: Local Currency [BDT] | F6: Foreign Currency [] | G6: Local Currency [BDT] | H6: Foreign Currency []
A7: 1 | B7: 2 | C7: 3 | D7: 4 | E7: 5 | F7: 6 | G7: 7 = 4 x 5 | H7: 8 = 4 x 6
A8: Schedule No. 4C Installation and Other Services
A9: 1 | B9: Survey and soil investigation works
A10: 1.1 | B10: Survey Work
A11: 1.1.1 | B11: Check survey in accordance with the requirements of the technical specification, incl. Full ground survey with change of route, if any, tower plotting and preparation and submission of route maps,submission of tower footing area on mouza maps for each tower location, profile drawings, SIMM documents, etc. | C11: Km | D11: 1
A13: 1.2 | B13: Geotechnical Investigations incl. taking samples, logging and lab testing
A14: 1.2.1 | B14: Boreholes for geotechnical investigation, incl. laboratory test, borehole logs, sampling and interpretive report as per geotechnical specification
A15: (a) | B15: Level 2 | C15: borehole | D15: 1
A16: (b) | B16: Level 4 | C16: borehole | D16: 1
A17: 1.2.2 | B17: Soil resistivity tests (one per tower) | C17: unit | D17: 7
A18: 2 | B18: Foundations for towers including all setting out, Concrete, Reinforcement, Excavation, Pumping, Stub-Setting, Geotechnical Investigation (Level 2), Shuttering, Leveling, Timbering, supply & Installation of foundation steelwork, Earthing Materials,Backfilling, approved Protective Coating & site clearing etc.
A19: 2.1 | B19: Tower type "1DT6"
A20: 2.1.1 | B20: Pile Foundation for Any Soil Category with 2m Raised Chimney | C20: per tower | D20: 2
A21: 2.2 | B21: Tower type "1QL" | I21: =SUM(D20:D20) -> 2
A22: 2.2.1 | B22: Pile Foundation for Any Soil Category with 2m Raised Chimney | C22: per tower | D22: 2
A23: 2.3 | B23: Tower type "1Q30" | I23: =SUM(#REF!) -> #REF!
A24: 2.3.1 | B24: Pile Foundation for Any Soil Category with 2m Raised Chimney | C24: per tower | D24: 1
A25: 2.4 | B25: Tower type "1QT6" | I25: =SUM(D24:D24) -> 1
A26: 2.4.1 | B26: Pile Foundation for Any Soil Category with 2m Raised Chimney | C26: per tower | D26: 2
A27: 3 | B27: Erection of 132kV double circuit towers complete with all stubs, nuts, bolts, locking nuts, washers, phase conductor and earthwire swivels/shackles, step bolts, tower notice and identification plates, ACDs, ptotective coating(Galvanizing), earthing etc. | I27: =SUM(I19:I26) -> #REF!
A28: 3.1 | B28: Tower type "1DT6"
A29: 3.1.1 | B29: Tower type 1DT6+6 m | C29: each | D29: 1
A30: 3.1.2 | B30: Tower type 1DT6+9 m | C30: each | D30: 1 | I30: =SUM(D29:D30) -> 2
A31: 4 | B31: Erection of 132kV four circuit towers complete with all stubs, nuts, bolts, locking nuts, washers, phase conductor and earthwire swivels/shackles, step bolts, tower notice and identification plates, ACDs, ptotective coating(Galvanizing), earthing etc.
A32: 4.1 | B32: Tower Type "1QL"
A33: 4.1.1 | B33: Tower Type 1QL+6.0 m | C33: each | D33: 1
A34: 4.1.2 | B34: Tower Type 1QL+9.0 m | C34: each | D34: 1
A35: 4.2 | B35: Tower Type "1Q30" | I35: =SUM(#REF!) -> #REF!
A36: 4.2.1 | B36: Tower type 1Q30 +9.0 m | C36: each | D36: 1
A37: 4.3 | B37: Tower type "1QT6" | I37: =SUM(D36:D36) -> 1
A38: 4.3.1 | B38: Tower Type 1QT6+6.0 m | C38: each | D38: 1
A39: 4.3.2 | B39: Tower Type 1QT6+9.0 m | C39: each | D39: 1
A40: 4.4 | B40: Auxiliary Crossarm for tower
A41: 4.4.1 | B41: Auxiliary Crossarm for Tower Type 1QT6 | C41: per set of three | D41: 2
A42: 4.4.2 | B42: Auxiliary Crossarm for Tower Type 1DT6 | C42: per set of three | D42: 2
A43: 4A | B43: Tower Paint
A44: (a) | B44: Coal tar epoxy coatings on all tower steelwork up to 3.0m/HFL whichever is greater from ground level in accordance with the requirements of the Technical Specification | C44: per tower | D44: 7
...
