Workbook

Sheet Schedule No. 1C
A3: C | B3: LILO of Matarbari-Chakaria 132kV Line at Matarbari 400/230/132kV SS (Pekua)
A4: Item | B4: Description | C4: Country of origin | D4: Unit | E4: Quantity | F4: Unit Price1 | G4: Total Price1
F6: Foreign Currency CIP [] | G6: Foreign Currency CIP []
A7: 1 | B7: 2 | C7: 3 | D7: 4 | E7: 5 | F7: 6 | G7: 7= 5 x 6
A8: Schedule No. 1C Plant and Mandatory Spare Parts Supplied from Abroad
A9: 1 | B9: Supply of 132 kV Double circuit towers, complete with all stubs, nuts, bolts, locking nuts, washers, swivels/shackles, step bolts, tower notice and identification plates, ACDs, protective coating(Galvanazing) etc.
A10: 1.1 | B10: Tower Type 1DT6
A11: 1.1.1 | B11: Tower Type 1DT6+6.0 m | D11: each | E11: 1
A12: 1.1.2 | B12: Tower Type 1DT6+9.0 m | D12: each | E12: 1 | H12: =SUM(E11:E12) -> 2
A13: 2 | B13: Supply of 132 kV Four circuit towers, complete with all stubs, nuts, bolts, locking nuts, washers, phase conductors and earthwire, swivels/shackles, step bolts, tower notice and identification plates, ACDs, protective coating(Galvanizing), etc.
A14: 2.1 | B14: Tower Type 1QL
A15: 2.1.1 | B15: Tower Type 1QL+6.0 m | D15: each | E15: 1
A16: 2.1.2 | B16: Tower Type 1QL+9.0 m | D16: each | E16: 1
A17: 2.3 | B17: Tower Type 1Q30 | H17: =SUM(#REF!) -> #REF!
A18: 2.3.1 | B18: Tower type 1Q30 +9.0 m | D18: each | E18: 1
A19: 2.4 | B19: Tower Type 1QT6 | H19: =SUM(E18:E18) -> 1
A20: 2.4.1 | B20: Tower Type 1QT6+6.0 m | D20: each | E20: 1
A21: 2.4.2 | B21: Tower Type 1QT6+9.0 m | D21: each | E21: 1
A22: 2.5 | B22: Auxiliary Crossarm for tower | H22: =SUM(E20:E21) -> 2
A23: 2.5.1 | B23: Auxiliary Crossarm for Tower Type 1QT6 | D23: per set of three | E23: 2 | H23: =SUM(H12:H22) -> #REF!
A24: 2.5.2 | B24: Auxiliary Crossarm for Tower Type 1DT6 | D24: per set of three | E24: 2
A25: 3 | B25: Tower Earthing
A26: 3.1 | B26: Type A | D26: Per Tower | E26: 4
A27: 3.2 | B27: Type B | D27: Per Tower | E27: 2
A28: 3.3 | B28: Type C | D28: Per Tower | E28: 1
A29: 3.4 | B29: Type D (if required) | D29: Per Tower | E29: 0
A30: 4 | B30: Phase conductor, OPGW cable, complete with repair sleeves and joints
A31: 4.1 | B31: "Single ACSR Grosbeak" (four circuit line, all circuits erected, one conductors per phase) | D31: Route km2 | E31: 1
A32: 4.2 | B32: Two optical fibre ground wire, 48 fibres 7×3.25 steel earthwire equivalent OPGW, including joint box | D32: Route km2 | E32: 1
A33: 5 | B33: Insulator strings, with associated suspension and tension clamps for single "ACSR Grosbeak" Conductor
A34: 5.1 | B34: a) 70kN suspension Insulators set for single "ACSR Grosbeak" Conductor (Suspension) - disc only | D34: Set | E34: 24
B35: b) 70kN suspension Insulators set for single "ACSR Grosbeak" Conductor (Suspension) - hardware fittings only | D35: Set | E35: =E34 -> 24
A36: 5.2 | B36: a) 120kN tension Insulators Set for single "ACSR Grosbeak'' Conductor - disc only | D36: Set | E36: 84
B37: b) 120kN tension Insulators Set for single "ACSR Grosbeak'' Conductor - hardware fittings only | D37: Set | E37: 84
A38: 5.3 | B38: a) 70kN jumper suspension Insulators Set forsingle "ACSR Grosbeak" Conductor - disc only | D38: Set | E38: 42
B39: b) 70kN jumper suspension Insulators Set forsingle "ACSR Grosbeak" Conductor - hardware fittings only | D39: Set | E39: 42
A40: 5.4 | B40: a) 70kN single upright low duty Insulators Set for single "ACSR Grosbeak" Conductor - disc only | D40: Set | E40: 12
B41: b) 70kN single upright low duty Insulators Set for single "ACSR Grosbeak" Conductor - hardware fittings only | D41: Set | E41: 12
A42: 5.5 | B42: a) 70kN single inverted low duty Insulators Set for single "ACSR Grosbeak" Conductor - disc only | D42: Set | E42: 12
B43: b) 70kN single inverted low duty Insulators Fittings Set for single "ACSR Grosbeak" Conductor - hardware fittings only | D43: Set | E43: 12
A44: 6 | B44: OPGW sets, complete with all accessories, incl. armour rods and earth bounds
A45: 6.1 | B45: Suspension set (including all fittings and accessories for surplus and to guide the OPGW to the joint box) | D45: set | E45: 4
A46: 6.2 | B46: Tension set (including all fittings and accessories for surplus and to guide the OPGW to the joint box) | D46: set | E46: 18
A47: 7 | B47: Dampers
A48: 7.1 | B48: Vibration damper for phase conductor | D48: per span | E48: 7
A49: 7.2 | B49: Vibration damper for OPGW | D49: per span | E49: 7
A50: 8 | B50: Aerial Markers and Tower Paint
A51: 8.1 | B51: Air craft obstruction lights solar powered complete with lamps, solar, panels, batteries, control equipment cables, support framework, tower work platform etc. | D51: Per tower | E51: 0
A52: 8.2 | B52: Bird diverters | D52: pcs. | E52: 30
A53: 8.3 | B53: Bird guards, one bird guard per each crossarm applied on intermediate towers | D53: pcs. | E53: 24
A54: 8.4 | B54: Aircraft warning spheres | D54: pcs. | E54: 0
A55: 8.5 | B55: Painting of 60 meter and over tower in accordance with the requirements of the Technical Specification | D55: per tower | E55: 0
A56: 8.6 | B56: Painting of tower (Reflecting Paint) upto 3 meter in submerge area in accordance with the requirements of the Technical Specification | D56: per tower | E56: 2
A57: 8.7 | B57: Coal tar epoxy coatings on all tower steelwork up to 3.0m/HFL whichever is greater from ground level in accordance with the requirements of the Technical Specification | D57: per tower | E57: 7
A58: 9 | B58: Mandatory Spare Parts and Tools
A59: 9.1 | B59: Conductor "ACSR Grosbeak" type | D59: km | E59: 2
A60: 9.2 | B60: Optical fibre ground wire, 48 fibres 7×3.25 steel earthwire equivalent OPGW | D60: km | E60: 1
A61: 9.3 | B61: a) 70kN suspension Insulators set for single "ACSR Grosbeak " Conductor (Suspension) - disc only | D61: set | E61: 6
B62: b) 70kN suspension Insulators set for single "ACSR Grosbeak " Conductor (Suspension) - hardware fittings only | D62: set | E62: 6
A63: 9.4 | B63: a) 120kN tension Insulators Set for single "ACSR Grosbeak'' Conductor - disc only | D63: set | E63: 12
B64: b) 120kN tension Insulators Set for single "ACSR Grosbeak'' Conductor - hardware fittings only | D64: set | E64: 12
A65: 9.5 | B65: OPGW 48 fibres suspension set | D65: set | E65: 4
A66: 9.6 | B66: OPGW 48 fibres tension set | D66: set | E66: 8
A67: 9.7 | B67: OPGW junction box | D67: set | E67: 3
A68: 9.8 | B68: Vibration damper for phase conductor single "ACSR Grosbeak" Conductor | D68: each | E68: 20
A69: 9.9 | B69: Vibration damper for OPGW | D69: each | E69: 10
A70: 9.1 | B70: Repair sleeve for conductor - single "ACSR Grosbeak" Conductor | D70: pcs | E70: 5
A71: 9.11 | B71: Midspan joints for conductor single "ACSR Grosbeak" Conductor | D71: pcs | E71: 5
A72: 9.12 | B72: Bird guard | D72: pcs | E72: 3
A73: 9.13 | B73: Terminal ground resistance tester (tools) | D73: pcs | E73: 1
A74: 9.14 | B74: Temporary earthing equipment | D74: each | E74: 1
A75: 9.15 | B75: Elcometer | D75: each | E75: 0
A76: 9.16 | B76: Motorised jointing compressor for conductor complete with dies suitable for all conductors & earthwires to be used for this Contract | D76: each | E76: 0
A77: Total Columns 7 to be carried forward to Schedule No. 5 Grand Summary | G77: =SUM(G11:G76) -> 0
F80: Name of Bidder
F82: Signature of Bidder
A84: 1. Specify currency in accordance with specifications in Bid Data Sheet under ITB 19.1 in Single-stage Bid. Create and use as many columns for Unit Price and Total Price as there are currencies.
A85: 2. Definition of route km: Route km is the transmission line distance between two terminal points in plan view. Route km is exclusive sag and other electrical clearances, elevation differences etc. The Contractor shall incorporate all such extra costs in his unit rate.

Sheet Schedule No. 2C
A3: ='Schedule No. 1C'!A3 -> C | B3: ='Schedule No. 1C'!B3:G3 -> LILO of Matarbari-Chakaria 132kV Line at Matarbari 400/230/132kV SS (Pekua)
A4: Item | B4: Description | C4: Unit | D4: Quantity | E4: Unit Price1 | G4: Total Price1
E6: Local Currency EXW [BDT] | F6: Foreign Currency EXW [ ] | G6: Local Currency EXW [BDT] | H6: Foreign Currency EXW [ ]
A7: 1 | B7: 2 | C7: 3 | D7: 4 | E7: 5 | F7: 6 | G7: 7=4*5 | H7: 8=4*6
A8: Schedule No. 2C Plant and Mandatory Spare Parts Supplied from Within the Employer's Country
A9: 1 | B9: Supply of 132 kV Double circuit towers, complete with all stubs, nuts, bolts, locking nuts, washers, swivels/shackles, step bolts, tower notice and identification plates, ACDs, protective coating(Galvanazing) etc.
A10: 1.1 | B10: Tower Type 1DT6
A11: 1.1.1 | B11: Tower Type 1DT6+6.0 m | C11: each | D11: 1
A12: 1.1.2 | B12: Tower Type 1DT6+9.0 m | C12: each | D12: 1
A13: 2 | B13: Supply of 132 kV Four circuit towers, complete with all stubs, nuts, bolts, locking nuts, washers, swivels/shackles, step bolts, tower notice and identification plates, ACDs, protective coating(Galvanizing), etc.
A14: 2.1 | B14: Tower Type 1QL
A15: 2.1.1 | B15: Tower Type 1QL+6.0 m | C15: each | D15: 1
A16: 2.1.2 | B16: Tower Type 1QL+9.0 m | C16: each | D16: 1
A17: 2.3 | B17: Tower Type 1Q30
A18: 2.3.1 | B18: Tower type 1Q30 +9.0 m | C18: each | D18: 1
A19: 2.4 | B19: Tower Type 1QT6
A20: 2.4.1 | B20: Tower Type 1QT6+6.0 m | C20: each | D20: 1
A21: 2.4.2 | B21: Tower Type 1QT6+9.0 m | C21: each | D21: 1
A22: 2.5 | B22: Auxiliary Crossarm for tower
A23: 2.5.1 | B23: Auxiliary Crossarm for Tower Type 1QT6 | C23: per set of three | D23: 2
A24: 2.5.2 | B24: Auxiliary Crossarm for Tower Type 1DT6 | C24: per set of three | D24: 2
A25: 3 | B25: Tower Earthing
A26: 3.1 | B26: Type A | C26: Per Tower | D26: 4
A27: 3.2 | B27: Type B | C27: Per Tower | D27: 2
A28: 3.3 | B28: Type C | C28: Per Tower | D28: 1
A29: 3.4 | B29: Type D (if required) | C29: Per Tower | D29: 0
A30: 4 | B30: Phase conductor, OPGW cable, complete with repair sleeves and joints
A31: 4.1 | B31: "Single ACSR Grosbeak" (four circuit line, all circuits erected, one conductors per phase) | C31: Route km2 | D31: 1
A32: 4.2 | B32: Two optical fibre ground wire, 48 fibres 7×3.25 steel earthwire equivalent OPGW, including joint box | C32: Route km2 | D32: 1
A33: 5 | B33: Insulator strings, with associated suspension and tension clamps for single "ACSR Grosbeak" Conductor
A34: 5.1 | B34: a) 70kN suspension Insulators set for single "ACSR Grosbeak" Conductor (Suspension) - disc only | C34: Set | D34: 24
B35: b) 70kN suspension Insulators set for single "ACSR Grosbeak" Conductor (Suspension) - hardware fittings only | C35: Set | D35: =D34 -> 24
A36: 5.2 | B36: a) 120kN tension Insulators Set for single "ACSR Grosbeak'' Conductor - disc only | C36: Set | D36: 84
B37: b) 120kN tension Insulators Set for single "ACSR Grosbeak'' Conductor - hardware fittings only | C37: Set | D37: 84
A38: 5.3 | B38: a) 70kN jumper suspension Insulators Set forsingle "ACSR Grosbeak" Conductor - disc only | C38: Set | D38: 42
B39: b) 70kN jumper suspension Insulators Set forsingle "ACSR Grosbeak" Conductor - hardware fittings only | C39: Set | D39: 42
A40: 5.4 | B40: a) 70kN single upright low duty Insulators Set for single "ACSR Grosbeak" Conductor - disc only | C40: Set | D40: 12
B41: b) 70kN single upright low duty Insulators Set for single "ACSR Grosbeak" Conductor - hardware fittings only | C41: Set | D41: 12
A42: 5.5 | B42: a) 70kN single inverted low duty Insulators Set for single "ACSR Grosbeak" Conductor - disc only | C42: Set | D42: 12
B43: b) 70kN single inverted low duty Insulators Fittings Set for single "ACSR Grosbeak" Conductor - hardware fittings only | C43: Set | D43: 12
A44: 6 | B44: OPGW sets, complete with all accessories, incl. armour rods and earth bounds
A45: 6.1 | B45: Suspension set (including all fittings and accessories for surplus and to guide the OPGW to the joint box) | C45: set | D45: 4
A46: 6.2 | B46: Tension set (including all fittings and accessories for surplus and to guide the OPGW to the joint box) | C46: set | D46: 18
A47: 7 | B47: Dampers
A48: 7.1 | B48: Vibration damper for phase conductor | C48: per span | D48: 7
A49: 7.2 | B49: Vibration damper for OPGW | C49: per span | D49: 7
A50: 8 | B50: Aerial Markers and Tower Paint
A51: 8.1 | B51: Air craft obstruction lights solar powered complete with lamps, solar, panels, batteries, control equipment cables, support framework, tower work platform etc. | C51: Per tower | D51: 0
A52: 8.2 | B52: Bird diverters | C52: pcs. | D52: 30
A53: 8.3 | B53: Bird guards, one bird guard per each crossarm applied on intermediate towers | C53: pcs. | D53: 24
A54: 8.4 | B54: Aircraft warning spheres | C54: pcs. | D54: 0
A55: 8.5 | B55: Painting of 60 meter and over tower in accordance with the requirements of the Technical Specification | C55: per tower | D55: 0
A56: 8.6 | B56: Painting of tower (Reflecting Paint) upto 3 meter in submerge area in accordance with the requirements of the Technical Specification | C56: per tower | D56: 2
A57: 8.7 | B57: Coal tar epoxy coatings on all tower steelwork up to 3.0m/HFL whichever is greater from ground level in accordance with the requirements of the Technical Specification | C57: per tower | D57: 7
A58: 9 | B58: Mandatory Spare Parts and Tools
A59: 9.1 | B59: Conductor "ACSR Grosbeak" type | C59: km | D59: 2
A60: 9.2 | B60: Optical fibre ground wire, 48 fibres 7×3.25 steel earthwire equivalent OPGW | C60: km | D60: 1
A61: 9.3 | B61: a) 70kN suspension Insulators set for single "ACSR Grosbeak " Conductor (Suspension) - disc only | C61: set | D61: 6
B62: b) 70kN suspension Insulators set for single "ACSR Grosbeak " Conductor (Suspension) - hardware fittings only | C62: set | D62: 6
A63: 9.4 | B63: a) 120kN tension Insulators Set for single "ACSR Grosbeak'' Conductor - disc only | C63: set | D63: 12
B64: b) 120kN tension Insulators Set for single "ACSR Grosbeak'' Conductor - hardware fittings only | C64: set | D64: 12
A65: 9.5 | B65: OPGW 48 fibres suspension set | C65: set | D65: 4
A66: 9.6 | B66: OPGW 48 fibres tension set | C66: set | D66: 8
A67: 9.7 | B67: OPGW junction box | C67: set | D67: 3
A68: 9.8 | B68: Vibration damper for phase conductor single "ACSR Grosbeak" Conductor | C68: each | D68: 20
A69: 9.9 | B69: Vibration damper for OPGW | C69: each | D69: 10
A70: 9.1 | B70: Repair sleeve for conductor - single "ACSR Grosbeak" Conductor | C70: pcs | D70: 5
A71: 9.11 | B71: Midspan joints for conductor single "ACSR Grosbeak" Conductor | C71: pcs | D71: 5
A72: 9.12 | B72: Bird guard | C72: pcs | D72: 3
A73: 9.13 | B73: Terminal ground resistance tester (tools) | C73: pcs | D73: 1
A74: 9.14 | B74: Temporary earthing equipment | C74: each | D74: 1
A75: 9.15 | B75: Elcometer | C75: each | D75: 0
A76: 9.16 | B76: Motorised jointing compressor for conductor complete with dies suitable for all conductors & earthwires to be used for this Contract | C76: each | D76: 0
A77: Total Columns 7 and 8 to be carried forward to Schedule No. 5 - Grand Summary | F77: 0
E80: Name of Bidder
E82: Signature of Bidder
A84: 1. Specify currency in accordance with specifications in Bid Data Sheet under ITB 19.1 in Single-stage Bid. Create and use as many columns for Unit Price and Total Price as there are currencies.
A85: 2. Definition of route km: Route km is the transmission line distance between two terminal points in plan view. Route km is exclusive sag and other electrical clearances, elevation differences etc. The Contractor shall incorporate all such extra costs in his unit rate.

Sheet Schedule No. 3C
A3: ='Schedule No. 1C'!A3 -> C | B3: ='Schedule No. 1C'!B3:G3 -> LILO of Matarbari-Chakaria 132kV Line at Matarbari 400/230/132kV SS (Pekua)
A4: Item | B4: Description | C4: Unit | D4: Quantity | E4: Unit Price1 | G4: Total Price1
E6: Local Currency [BDT] | F6: Foreign Currency [] | G6: Local Currency [BDT] | H6: Foreign Currency []
A7: 1 | B7: 2 | C7: 3 | D7: 4 | E7: 5 | F7: 6 | G7: 7 = 4 x 5 | H7: 8 = 4 x 6
A8: Schedule No. 3C Design Services
A9: 1 | B9: Line Design
A10: 1.1 | B10: Detailed line design including plan and profiles; conductor, earthwire and OPGW sag tension calculations; tower spotting, establishment of line schedule; Design of insulator strings, OPGW and earthwire attachments | C10: Lump sum | D10: 1
A12: 2 | B12: Tower Test
A13: 2.1 | B13: Proto assembly of all type towers with all extensions to prove compliance with specification. Payment for successful test only.
A14: (a) | B14: Tower type 1DT6 | C14: each | D14: 1
A15: (b) | B15: Tower type 1QL | C15: each | D15: 1
A16: (c) | B16: Tower type 1Q30 | C16: each | D16: 1
A17: (d) | B17: Tower type 1QT6 | C17: each | D17: 1
A18: 3 | B18: Foundation Design
A19: 3.1 | B19: Foundation design for all soil types | C19: Lump sum | D19: 1
A20: Total Columns 7 & 8 to be carried forward to Schedule No. 5 -Grand Summary | G20: =SUM(G10:G19) -> 0 | H20: =SUM(H10:H19) -> 0
F23: Name of Bidder
F25: Signature of Bidder
A27: 1. Specify currency in accordance with specifications in Bid Data Sheet under ITB 19.1 in Single-stage Bid. Create and use as many columns for Unit Price and Total Price as there are currencies.

Sheet Schedule No. 4C
A3: ='Schedule No. 1C'!A3 -> C | B3: ='Schedule No. 1C'!B3:G3 -> LILO of Matarbari-Chakaria 132kV Line at Matarbari 400/230/132kV SS (Pekua)
A4: Item | B4: Description | C4: Unit | D4: Quantity | E4: Unit Price1 | G4: Total Price1
E6: Local Currency [BDT] | F6: Foreign Currency [] | G6: Local Currency [BDT] | H6: Foreign Currency []
A7: 1 | B7: 2 | C7: 3 | D7: 4 | E7: 5 | F7: 6 | G7: 7 = 4 x 5 | H7: 8 = 4 x 6
A8: Schedule No. 4C Installation and Other Services
A9: 1 | B9: Survey and soil investigation works
A10: 1.1 | B10: Survey Work
A11: 1.1.1 | B11: Check survey in accordance with the requirements of the technical specification, incl. Full ground survey with change of route, if any, tower plotting and preparation and submission of route maps,submission of tower footing area on mouza maps for each tower location, profile drawings, SIMM documents, etc. | C11: Km | D11: 1
A13: 1.2 | B13: Geotechnical Investigations incl. taking samples, logging and lab testing
A14: 1.2.1 | B14: Boreholes for geotechnical investigation, incl. laboratory test, borehole logs, sampling and interpretive report as per geotechnical specification
A15: (a) | B15: Level 2 | C15: borehole | D15: 1
A16: (b) | B16: Level 4 | C16: borehole | D16: 1
A17: 1.2.2 | B17: Soil resistivity tests (one per tower) | C17: unit | D17: 7
A18: 2 | B18: Foundations for towers including all setting out, Concrete, Reinforcement, Excavation, Pumping, Stub-Setting, Geotechnical Investigation (Level 2), Shuttering, Leveling, Timbering, supply & Installation of foundation steelwork, Earthing Materials,Backfilling, approved Protective Coating & site clearing etc.
A19: 2.1 | B19: Tower type "1DT6"
A20: 2.1.1 | B20: Pile Foundation for Any Soil Category with 2m Raised Chimney | C20: per tower | D20: 2
A21: 2.2 | B21: Tower type "1QL" | I21: =SUM(D20:D20) -> 2
A22: 2.2.1 | B22: Pile Foundation for Any Soil Category with 2m Raised Chimney | C22: per tower | D22: 2
A23: 2.3 | B23: Tower type "1Q30" | I23: =SUM(#REF!) -> #REF!
A24: 2.3.1 | B24: Pile Foundation for Any Soil Category with 2m Raised Chimney | C24: per tower | D24: 1
A25: 2.4 | B25: Tower type "1QT6" | I25: =SUM(D24:D24) -> 1
A26: 2.4.1 | B26: Pile Foundation for Any Soil Category with 2m Raised Chimney | C26: per tower | D26: 2
A27: 3 | B27: Erection of 132kV double circuit towers complete with all stubs, nuts, bolts, locking nuts, washers, phase conductor and earthwire swivels/shackles, step bolts, tower notice and identification plates, ACDs, ptotective coating(Galvanizing), earthing etc. | I27: =SUM(I19:I26) -> #REF!
A28: 3.1 | B28: Tower type "1DT6"
A29: 3.1.1 | B29: Tower type 1DT6+6 m | C29: each | D29: 1
A30: 3.1.2 | B30: Tower type 1DT6+9 m | C30: each | D30: 1 | I30: =SUM(D29:D30) -> 2
A31: 4 | B31: Erection of 132kV four circuit towers complete with all stubs, nuts, bolts, locking nuts, washers, phase conductor and earthwire swivels/shackles, step bolts, tower notice and identification plates, ACDs, ptotective coating(Galvanizing), earthing etc.
A32: 4.1 | B32: Tower Type "1QL"
A33: 4.1.1 | B33: Tower Type 1QL+6.0 m | C33: each | D33: 1
A34: 4.1.2 | B34: Tower Type 1QL+9.0 m | C34: each | D34: 1
A35: 4.2 | B35: Tower Type "1Q30" | I35: =SUM(#REF!) -> #REF!
A36: 4.2.1 | B36: Tower type 1Q30 +9.0 m | C36: each | D36: 1
A37: 4.3 | B37: Tower type "1QT6" | I37: =SUM(D36:D36) -> 1
A38: 4.3.1 | B38: Tower Type 1QT6+6.0 m | C38: each | D38: 1
A39: 4.3.2 | B39: Tower Type 1QT6+9.0 m | C39: each | D39: 1
A40: 4.4 | B40: Auxiliary Crossarm for tower
A41: 4.4.1 | B41: Auxiliary Crossarm for Tower Type 1QT6 | C41: per set of three | D41: 2
A42: 4.4.2 | B42: Auxiliary Crossarm for Tower Type 1DT6 | C42: per set of three | D42: 2
A43: 4A | B43: Tower Paint
A44: (a) | B44: Coal tar epoxy coatings on all tower steelwork up to 3.0m/HFL whichever is greater from ground level in accordance with the requirements of the Technical Specification | C44: per tower | D44: 7
A45: (b) | B45: Painting of tower having total height above GL exceeds 60m for aircraft navigation in accordance with the requirements of the Technical Specification | C45: per tower | D45: 0
A46: (c) | B46: Painting of tower (Reflecting Paint) upto 3 meter above epoxy coat in submerge area in accordance with the requirements of the Technical Specification | C46: per tower | D46: 2
A47: 5 | B47: Testing of Foundations | I47: =SUM(D38:D39) -> 2
A48: 5.1 | B48: Individual Pile test including supply,install and test to prove compliance with technical specification, payment for successful test only (applicable for all tower types selected by the Employer's Engineer):
A49: (a) | B49: Compression test | C49: per test | D49: 1
A50: (b) | B50: Uplift test | C50: per test | D50: 1
A51: (c) | B51: Pile Integrity test | C51: per test | D51: 28
A52: 6 | B52: Stringing of four circuit line, one conductors per phase, two OPGW (length approx. Route km)
A53: 6.1 | B53: "Single ACSR Grosbeak " (four circuit line, all circuits erected, one conductors per phase) including: Installation of insulator strings, compressed dead-ends, compression junction sleeves, suspension clamps, Sagging and clipping, Installation of armour rods and Dampers, Pilot strings and jumpers and any other works required as per specification. | C53: route km | D53: 1
A54: 6.2 | B54: Two optical fibre ground wire, 48 fibres 7×3.25 steel earthwire equivalent OPGW shield wire, including joint box, including:Tension and semi-tension joints, suspension clamps, armour rods and dampers,Sagging and clipping, Installation of intermediate junction boxes and terminal junction boxes at substation gantries ,Earthing jumpers | C54: route km | D54: 1
A55: 7 | B55: Documentation
A56: 7.1 | B56: Establishment of as-built drawings, manuals and all requested documents as per specifications | C56: lump sum | D56: 1
A57: 8 | B57: Miscellaneous
A58: 8.1 | B58: Transport of the material and equipment supplied from Employer's Country | C58: lump sum | D58: 1
A59: 8.2 | B59: Insurance of material and equipment supplied from Employer's Country during transport | C59: lump sum | D59: 1
A60: 8.3 | B60: Additional counterpoise earthing in accordance with requirement of the Technical specification | C60: per meter | D60: 2
A61: 8.4 | B61: Miscellaneous Rates for works certified by the Engineer in accordance with method of Payment
A62: (a) | B62: Additional Excavation | C62: cu.m | D62: 50
A63: (b) | B63: Additional Concrete | C63: cu.m | D63: 50
A64: (c) | B64: Additional Reinforcement | C64: kg | D64: 200
A65: (d) | B65: Extra for surface resisting cement per cu.m of concrete | C65: cu.m | D65: 25
A66: (e) | B66: Additional Boring (for any diameter) | C66: rm | D66: 100
A67: (f) | B67: Sand Filling | C67: cu.m | D67: 50
A68: 8.5 | B68: ''Environmental Management & Monitoring Plan Implementation including Environmental Parameter Testing (as per EMP i.e., Monthly/ Quarterly) and Ecological study" in lieu of "Environmental Management and Monitoring Plan including Ecological study'' | C68: lump sum | D68: 1
A69: 8.6 | B69: STI. STD and HIV/AIDS alleviation program | C69: lump sum | D69: 1
A70: 8.7 | B70: Payment for Compensation(For resettlement of affected people, dwelling/commercial structures, trees, crops etc. on the Right of Way) | C70: lump sum | D70: 1
A71: 9 | B71: Dismantling & Bypass
A72: 9.1 | B72: Dismantling of existing line section (including tower, conductor, insulator and other accessories) whichever is required for line in/out, storing the dismantled materials at PGCB store | C72: per span | D72: 2
A73: 9.2 | B73: By passing the required line section with Tower/Pole/ERS. Tower/Pole/ERS for by passing shall be collected from PGCB store | C73: per span | D73: 2
A74: 9.3 | B74: Dismantling of by pass line after completing line in line out and storing the Tower/Pole/ERS of by pass line as PGCB store | C74: per span | D74: 2
A75: Total Columns 7 & 8 to be carried forward to Schedule No. 5 - Grand Summary
F78: Name of Bidder
A81: 1. Specify currency in accordance with specifications in Bid Data Sheet under ITB 19.1 in Single-stage Bid. Create and use as many columns for Unit Price and Total Price as there are currencies.
